BEGIN:VCALENDAR
VERSION:2.0
PRODID:-//Paroisse catholique de Gennevilliers &amp; Asnières-Grésillons - ECPv6.15.20//NONSGML v1.0//EN
CALSCALE:GREGORIAN
METHOD:PUBLISH
X-WR-CALNAME:Paroisse catholique de Gennevilliers &amp; Asnières-Grésillons
X-ORIGINAL-URL:https://paroissegennevilliers.fr
X-WR-CALDESC:Évènements pour Paroisse catholique de Gennevilliers &amp; Asnières-Grésillons
REFRESH-INTERVAL;VALUE=DURATION:PT1H
X-Robots-Tag:noindex
X-PUBLISHED-TTL:PT1H
BEGIN:VTIMEZONE
TZID:Europe/Paris
BEGIN:DAYLIGHT
TZOFFSETFROM:+0100
TZOFFSETTO:+0200
TZNAME:CEST
DTSTART:20220327T010000
END:DAYLIGHT
BEGIN:STANDARD
TZOFFSETFROM:+0200
TZOFFSETTO:+0100
TZNAME:CET
DTSTART:20221030T010000
END:STANDARD
BEGIN:DAYLIGHT
TZOFFSETFROM:+0100
TZOFFSETTO:+0200
TZNAME:CEST
DTSTART:20230326T010000
END:DAYLIGHT
BEGIN:STANDARD
TZOFFSETFROM:+0200
TZOFFSETTO:+0100
TZNAME:CET
DTSTART:20231029T010000
END:STANDARD
BEGIN:DAYLIGHT
TZOFFSETFROM:+0100
TZOFFSETTO:+0200
TZNAME:CEST
DTSTART:20240331T010000
END:DAYLIGHT
BEGIN:STANDARD
TZOFFSETFROM:+0200
TZOFFSETTO:+0100
TZNAME:CET
DTSTART:20241027T010000
END:STANDARD
END:VTIMEZONE
BEGIN:VEVENT
DTSTART;TZID=Europe/Paris:20231231T093000
DTEND;TZID=Europe/Paris:20231231T103000
DTSTAMP:20260424T181021
CREATED:20201127T090227Z
LAST-MODIFIED:20231230T153327Z
UID:4669-1704015000-1704018600@paroissegennevilliers.fr
SUMMARY:MESSE de la Sainte Famille à 9h30
DESCRIPTION:Messe de la Sainte famille
URL:https://paroissegennevilliers.fr/evenement/messe-3/
LOCATION:Saint Jean des Grésillons\, 17\, rue du 19 mars 1962\, église St Jean des Grésillons 17\, rue du 19 mars 1962\, GENNEVILLIERS\, 92230\, France
CATEGORIES:Messe
ATTACH;FMTTYPE=image/jpeg:https://paroissegennevilliers.fr/wp-content/uploads/2020/11/Sainte-famille-1.jpg
END:VEVENT
BEGIN:VEVENT
DTSTART;TZID=Europe/Paris:20231231T110000
DTEND;TZID=Europe/Paris:20231231T120000
DTSTAMP:20260424T181021
CREATED:20211208T083322Z
LAST-MODIFIED:20231230T153357Z
UID:6961-1704020400-1704024000@paroissegennevilliers.fr
SUMMARY:Messe de la Sainte Famille à 11h
DESCRIPTION:Messe de la Sainte famille
URL:https://paroissegennevilliers.fr/evenement/messe-de-la-sainte-famille/
LOCATION:Eglise Ste Marie-Madeleine\, Place Jean Grandel\, Place Jean Grandel\, Gennevilliers\, 92230\, France
ATTACH;FMTTYPE=image/jpeg:https://paroissegennevilliers.fr/wp-content/uploads/2020/11/Sainte-famille-1.jpg
END:VEVENT
END:VCALENDAR