BEGIN:VCALENDAR
VERSION:2.0
PRODID:-//Paroisse catholique de Gennevilliers &amp; Asnières-Grésillons - ECPv6.15.20//NONSGML v1.0//EN
CALSCALE:GREGORIAN
METHOD:PUBLISH
X-WR-CALNAME:Paroisse catholique de Gennevilliers &amp; Asnières-Grésillons
X-ORIGINAL-URL:https://paroissegennevilliers.fr
X-WR-CALDESC:Évènements pour Paroisse catholique de Gennevilliers &amp; Asnières-Grésillons
REFRESH-INTERVAL;VALUE=DURATION:PT1H
X-Robots-Tag:noindex
X-PUBLISHED-TTL:PT1H
BEGIN:VTIMEZONE
TZID:Europe/Paris
BEGIN:DAYLIGHT
TZOFFSETFROM:+0100
TZOFFSETTO:+0200
TZNAME:CEST
DTSTART:20230326T010000
END:DAYLIGHT
BEGIN:STANDARD
TZOFFSETFROM:+0200
TZOFFSETTO:+0100
TZNAME:CET
DTSTART:20231029T010000
END:STANDARD
BEGIN:DAYLIGHT
TZOFFSETFROM:+0100
TZOFFSETTO:+0200
TZNAME:CEST
DTSTART:20240331T010000
END:DAYLIGHT
BEGIN:STANDARD
TZOFFSETFROM:+0200
TZOFFSETTO:+0100
TZNAME:CET
DTSTART:20241027T010000
END:STANDARD
BEGIN:DAYLIGHT
TZOFFSETFROM:+0100
TZOFFSETTO:+0200
TZNAME:CEST
DTSTART:20250330T010000
END:DAYLIGHT
BEGIN:STANDARD
TZOFFSETFROM:+0200
TZOFFSETTO:+0100
TZNAME:CET
DTSTART:20251026T010000
END:STANDARD
END:VTIMEZONE
BEGIN:VEVENT
DTSTART;TZID=Europe/Paris:20240407T160000
DTEND;TZID=Europe/Paris:20240407T173000
DTSTAMP:20260424T012334
CREATED:20240406T222142Z
LAST-MODIFIED:20240406T222142Z
UID:10750-1712505600-1712511000@paroissegennevilliers.fr
SUMMARY:Concert "le Psautier de St Pierre" à 16h
DESCRIPTION:Après le succès du 1° concert “Jonas” (16.04.2023)\, les paroissiens\, – enfants\, adolescents et adultes -\, qui jouent d’un instrument de musique avec talent (piano\, violon\, batterie\, clarinette\, flûte traversière\, harpe\, guitare\, cithare\, djembé) et d’autres qui chantent ont décidé de recommencer cette année. Des nouveaux musiciens ont décidé de les rejoindre dans un programme éclectique (Rachmaninov\, David Bowie\, Gospel\, Schumann\,  …)\n \nDes échos à la sortie du concert “JONAS” de 2023 \nChacun jouera un morceau qu’il connaît bien et tous joueront pour accompagner des chants\, pendant la lecture d’extraits de la vie de St Pierre puisés dans les quatre évangiles\, éclairés par des passages de certains psaumes. \nVenons les écouter\, chanter ensemble\, et invitons des amis.
URL:https://paroissegennevilliers.fr/evenement/concert-le-psautier-de-st-pierre-a-16h/
LOCATION:Eglise Ste Marie-Madeleine\, Place Jean Grandel\, Place Jean Grandel\, Gennevilliers\, 92230\, France
ATTACH;FMTTYPE=image/png:https://paroissegennevilliers.fr/wp-content/uploads/2024/03/2024.04.07-Bandeau-concert.png
END:VEVENT
END:VCALENDAR