BEGIN:VCALENDAR
VERSION:2.0
PRODID:-//Paroisse catholique de Gennevilliers &amp; Asnières-Grésillons - ECPv6.15.20//NONSGML v1.0//EN
CALSCALE:GREGORIAN
METHOD:PUBLISH
X-WR-CALNAME:Paroisse catholique de Gennevilliers &amp; Asnières-Grésillons
X-ORIGINAL-URL:https://paroissegennevilliers.fr
X-WR-CALDESC:Évènements pour Paroisse catholique de Gennevilliers &amp; Asnières-Grésillons
REFRESH-INTERVAL;VALUE=DURATION:PT1H
X-Robots-Tag:noindex
X-PUBLISHED-TTL:PT1H
BEGIN:VTIMEZONE
TZID:Europe/Paris
BEGIN:DAYLIGHT
TZOFFSETFROM:+0100
TZOFFSETTO:+0200
TZNAME:CEST
DTSTART:20230326T010000
END:DAYLIGHT
BEGIN:STANDARD
TZOFFSETFROM:+0200
TZOFFSETTO:+0100
TZNAME:CET
DTSTART:20231029T010000
END:STANDARD
BEGIN:DAYLIGHT
TZOFFSETFROM:+0100
TZOFFSETTO:+0200
TZNAME:CEST
DTSTART:20240331T010000
END:DAYLIGHT
BEGIN:STANDARD
TZOFFSETFROM:+0200
TZOFFSETTO:+0100
TZNAME:CET
DTSTART:20241027T010000
END:STANDARD
BEGIN:DAYLIGHT
TZOFFSETFROM:+0100
TZOFFSETTO:+0200
TZNAME:CEST
DTSTART:20250330T010000
END:DAYLIGHT
BEGIN:STANDARD
TZOFFSETFROM:+0200
TZOFFSETTO:+0100
TZNAME:CET
DTSTART:20251026T010000
END:STANDARD
END:VTIMEZONE
BEGIN:VEVENT
DTSTART;TZID=Europe/Paris:20240530T200000
DTEND;TZID=Europe/Paris:20240530T213000
DTSTAMP:20260423T224042
CREATED:20240415T173958Z
LAST-MODIFIED:20250502T101031Z
UID:9123-1717099200-1717104600@paroissegennevilliers.fr
SUMMARY:Veillée de louange : de l'Ascension à la Pentecôte
DESCRIPTION:Comme les apôtres ont prié avec Marie entre l’Ascension de Jésus et la venue du Saint Esprit\, nous pourrons chanter\, prier pour l’église et notre paroisse\, remercier le Seigneur pour ce qu’Il nous donne de vivre et Lui confier nos soucis … \nNB Pour les personnes qui participeront à la messe de 18h30 et à la prière de louange\, il est possible de dîner sur place en apportant un plat à partager \nEn savoir + \n 
URL:https://paroissegennevilliers.fr/evenement/veillee-de-priere-de-lascension-a-la-pentecote-en-eglise/
LOCATION:Notre-Dame des Agnettes\, 26\, rue Louis Calmel\, 26\, rue Louis Calmel\, Gennevilliers\, 92230\, France
CATEGORIES:Prière
END:VEVENT
END:VCALENDAR