BEGIN:VCALENDAR
VERSION:2.0
PRODID:-//Paroisse catholique de Gennevilliers &amp; Asnières-Grésillons - ECPv6.15.20//NONSGML v1.0//EN
CALSCALE:GREGORIAN
METHOD:PUBLISH
X-ORIGINAL-URL:https://paroissegennevilliers.fr
X-WR-CALDESC:Évènements pour Paroisse catholique de Gennevilliers &amp; Asnières-Grésillons
REFRESH-INTERVAL;VALUE=DURATION:PT1H
X-Robots-Tag:noindex
X-PUBLISHED-TTL:PT1H
BEGIN:VTIMEZONE
TZID:Europe/Paris
BEGIN:DAYLIGHT
TZOFFSETFROM:+0100
TZOFFSETTO:+0200
TZNAME:CEST
DTSTART:20230326T010000
END:DAYLIGHT
BEGIN:STANDARD
TZOFFSETFROM:+0200
TZOFFSETTO:+0100
TZNAME:CET
DTSTART:20231029T010000
END:STANDARD
BEGIN:DAYLIGHT
TZOFFSETFROM:+0100
TZOFFSETTO:+0200
TZNAME:CEST
DTSTART:20240331T010000
END:DAYLIGHT
BEGIN:STANDARD
TZOFFSETFROM:+0200
TZOFFSETTO:+0100
TZNAME:CET
DTSTART:20241027T010000
END:STANDARD
BEGIN:DAYLIGHT
TZOFFSETFROM:+0100
TZOFFSETTO:+0200
TZNAME:CEST
DTSTART:20250330T010000
END:DAYLIGHT
BEGIN:STANDARD
TZOFFSETFROM:+0200
TZOFFSETTO:+0100
TZNAME:CET
DTSTART:20251026T010000
END:STANDARD
END:VTIMEZONE
BEGIN:VEVENT
DTSTART;TZID=Europe/Paris:20240704T083000
DTEND;TZID=Europe/Paris:20240704T113000
DTSTAMP:20260423T224129
CREATED:20240225T123832Z
LAST-MODIFIED:20240628T065832Z
UID:9475-1720081800-1720092600@paroissegennevilliers.fr
SUMMARY:ND des Agnettes (8h30-11h30) et Accueil (10h-11h30) ouverts
DESCRIPTION:En allant ou en revenant de faire vos courses\, de vous aérer ou de courir\, du travail \narrêtez-vous quelques instants pour allumer un cierge\, prendre un temps de prière en silence.\n– 8h40 prière des laudes \n– 9h-9h30 : messe \n  \n– 10h-11h30 : Accueil paroissial ouvert
URL:https://paroissegennevilliers.fr/evenement/nd-des-agnettes-ouverte-37/
LOCATION:Notre-Dame des Agnettes\, 26\, rue Louis Calmel\, 26\, rue Louis Calmel\, Gennevilliers\, 92230\, France
ATTACH;FMTTYPE=image/jpeg:https://paroissegennevilliers.fr/wp-content/uploads/2021/07/ND-Agnettes.jpg
END:VEVENT
END:VCALENDAR