BEGIN:VCALENDAR
VERSION:2.0
PRODID:-//Paroisse catholique de Gennevilliers &amp; Asnières-Grésillons - ECPv6.15.20//NONSGML v1.0//EN
CALSCALE:GREGORIAN
METHOD:PUBLISH
X-WR-CALNAME:Paroisse catholique de Gennevilliers &amp; Asnières-Grésillons
X-ORIGINAL-URL:https://paroissegennevilliers.fr
X-WR-CALDESC:Évènements pour Paroisse catholique de Gennevilliers &amp; Asnières-Grésillons
REFRESH-INTERVAL;VALUE=DURATION:PT1H
X-Robots-Tag:noindex
X-PUBLISHED-TTL:PT1H
BEGIN:VTIMEZONE
TZID:Europe/Paris
BEGIN:DAYLIGHT
TZOFFSETFROM:+0100
TZOFFSETTO:+0200
TZNAME:CEST
DTSTART:20230326T010000
END:DAYLIGHT
BEGIN:STANDARD
TZOFFSETFROM:+0200
TZOFFSETTO:+0100
TZNAME:CET
DTSTART:20231029T010000
END:STANDARD
BEGIN:DAYLIGHT
TZOFFSETFROM:+0100
TZOFFSETTO:+0200
TZNAME:CEST
DTSTART:20240331T010000
END:DAYLIGHT
BEGIN:STANDARD
TZOFFSETFROM:+0200
TZOFFSETTO:+0100
TZNAME:CET
DTSTART:20241027T010000
END:STANDARD
BEGIN:DAYLIGHT
TZOFFSETFROM:+0100
TZOFFSETTO:+0200
TZNAME:CEST
DTSTART:20250330T010000
END:DAYLIGHT
BEGIN:STANDARD
TZOFFSETFROM:+0200
TZOFFSETTO:+0100
TZNAME:CET
DTSTART:20251026T010000
END:STANDARD
END:VTIMEZONE
BEGIN:VEVENT
DTSTART;TZID=Europe/Paris:20240713T080000
DTEND;TZID=Europe/Paris:20240713T123000
DTSTAMP:20260423T210911
CREATED:20240709T105005Z
LAST-MODIFIED:20240709T105433Z
UID:11174-1720857600-1720873800@paroissegennevilliers.fr
SUMMARY:Grand ménage de l'église Ste Marie-Madeleine
DESCRIPTION:Retrouvons-nous à partir de 8h \n  \n+ d’infos
URL:https://paroissegennevilliers.fr/evenement/grand-menage-de-leglise-ste-marie-madeleine/
LOCATION:Eglise Ste Marie-Madeleine\, Place Jean Grandel\, Place Jean Grandel\, Gennevilliers\, 92230\, France
ATTACH;FMTTYPE=image/png:https://paroissegennevilliers.fr/wp-content/uploads/2024/07/2024.07.13-grand-menage-Ste-Marie-Madeleine.png
END:VEVENT
END:VCALENDAR