BEGIN:VCALENDAR
VERSION:2.0
PRODID:-//Paroisse catholique de Gennevilliers &amp; Asnières-Grésillons - ECPv6.15.20//NONSGML v1.0//EN
CALSCALE:GREGORIAN
METHOD:PUBLISH
X-ORIGINAL-URL:https://paroissegennevilliers.fr
X-WR-CALDESC:Évènements pour Paroisse catholique de Gennevilliers &amp; Asnières-Grésillons
REFRESH-INTERVAL;VALUE=DURATION:PT1H
X-Robots-Tag:noindex
X-PUBLISHED-TTL:PT1H
BEGIN:VTIMEZONE
TZID:Europe/Paris
BEGIN:DAYLIGHT
TZOFFSETFROM:+0100
TZOFFSETTO:+0200
TZNAME:CEST
DTSTART:20230326T010000
END:DAYLIGHT
BEGIN:STANDARD
TZOFFSETFROM:+0200
TZOFFSETTO:+0100
TZNAME:CET
DTSTART:20231029T010000
END:STANDARD
BEGIN:DAYLIGHT
TZOFFSETFROM:+0100
TZOFFSETTO:+0200
TZNAME:CEST
DTSTART:20240331T010000
END:DAYLIGHT
BEGIN:STANDARD
TZOFFSETFROM:+0200
TZOFFSETTO:+0100
TZNAME:CET
DTSTART:20241027T010000
END:STANDARD
BEGIN:DAYLIGHT
TZOFFSETFROM:+0100
TZOFFSETTO:+0200
TZNAME:CEST
DTSTART:20250330T010000
END:DAYLIGHT
BEGIN:STANDARD
TZOFFSETFROM:+0200
TZOFFSETTO:+0100
TZNAME:CET
DTSTART:20251026T010000
END:STANDARD
END:VTIMEZONE
BEGIN:VEVENT
DTSTART;TZID=Europe/Paris:20240908T100000
DTEND;TZID=Europe/Paris:20240908T110000
DTSTAMP:20260423T175941
CREATED:20220629T102656Z
LAST-MODIFIED:20240907T145953Z
UID:7907-1725789600-1725793200@paroissegennevilliers.fr
SUMMARY:Inscription au catéchisme 10h-11h
DESCRIPTION:En septembre\, la catéchèse redémarre ; voici les renseignements pour la rentrée 2024-2025 : \nÀ l’attention de tous les Parents dont les enfants sont nés entre le 1er janvier 2014 et le 31 décembre 2016 (soit en CE2\, CM1 ou CM2)\, baptisés ou pas.\n \n\nA l’église Notre-Dame des Agnettes (26\, rue Louis Calmel)\n\nMardi 3\, Mercredi 4\, Jeudi 6 et vendredi 7 de 16h à 19h (caté)\nSamedi 7 septembre de 10h à 12h et de 16h à 18h (caté)\nsamedi 14 septembre 16h-19h (Eveil à la foi)\n\n\nA l’église St Jean des Grésillons (17\, rue du 19 mars 1962)\n\nLundi 2 et 9 septembre de 17h30 à 19h ( caté)\n\nDimanche 1\, 8\, 15\, 22 septembre de 10h30-11h30 (Eveil à la foi)\n\n\nA l’église Ste Marie Madeleine (Place Jean Grandel)\n\nDimanche  1 et 8 de 10h à 11h (caté)\nDimanche 1 et 8 de 12h à 12h30 (Eveil à la foi)\n\n\n\n  \nCatéchèse ou catéchisme : 2 mots différents pour une même réalité. Tout homme est en quête de donner un sens à sa vie. Le caté aide à cheminer dans la découverte de Dieu qui nous est révélé par Jésus-Christ. Savez-vous\, par exemple\, que Dieu aime chacun de nous ? A notre tour d’aimer Dieu et d’aimer nos frères. \n  \nUne participation financière est demandée à l’inscription. Elle ne doit pas être un empêchement à la venue des enfants. Elle peut être réglée en espèces\, par chèque ou par Carte bleue. \nVisitez la page caté de ce
URL:https://paroissegennevilliers.fr/evenement/inscription-au-catechisme/
LOCATION:Eglise Ste Marie-Madeleine\, Place Jean Grandel\, Place Jean Grandel\, Gennevilliers\, 92230\, France
ATTACH;FMTTYPE=image/jpeg:https://paroissegennevilliers.fr/wp-content/uploads/2021/08/kt_2019_prendre_son_envol-2.jpg
END:VEVENT
BEGIN:VEVENT
DTSTART;TZID=Europe/Paris:20240908T103000
DTEND;TZID=Europe/Paris:20240908T113000
DTSTAMP:20260423T175941
CREATED:20240726T084924Z
LAST-MODIFIED:20240907T150036Z
UID:11304-1725791400-1725795000@paroissegennevilliers.fr
SUMMARY:Inscription Eveil à la foi 10h30-11h30
DESCRIPTION:En septembre\, la catéchèse redémarre ; voici les renseignements pour la rentrée 2024-2025 : \nÀ l’attention de tous les Parents dont les enfants sont nés entre le 1er janvier 2014 et le 31 décembre 2016 (soit en CE2\, CM1 ou CM2)\, baptisés ou pas.\n \n\nA l’église Notre-Dame des Agnettes (26\, rue Louis Calmel)\n\nMardi 3\, Mercredi 4\, Jeudi 6 et vendredi 7 de 16h à 19h (caté)\nSamedi 7 septembre de 10h à 12h et de 16h à 18h (caté)\nsamedi 14 septembre 16h-19h (Eveil à la foi)\n\n\nA l’église St Jean des Grésillons (17\, rue du 19 mars 1962)\n\nLundi 2 et 9 septembre de 17h30 à 19h ( caté)\n\nDimanche 1\, 8\, 15\, 22 septembre de 10h30-11h30 (Eveil à la foi)\n\n\nA l’église Ste Marie Madeleine (Place Jean Grandel)\n\nDimanche  1 et 8 de 10h à 11h (caté)\nDimanche 1 et 8 de 12h à 12h30 (Eveil à la foi)\n\n\n\n  \nCatéchèse ou catéchisme : 2 mots différents pour une même réalité. Tout homme est en quête de donner un sens à sa vie. Le caté aide à cheminer dans la découverte de Dieu qui nous est révélé par Jésus-Christ. Savez-vous\, par exemple\, que Dieu aime chacun de nous ? A notre tour d’aimer Dieu et d’aimer nos frères. \n  \nUne participation financière est demandée à l’inscription. Elle ne doit pas être un empêchement à la venue des enfants. Elle peut être réglée en espèces\, par chèque ou par Carte bleue. \nVisitez la page caté de ce
URL:https://paroissegennevilliers.fr/evenement/inscription-eveil-a-la-foi-10h30-11h30-2/
LOCATION:Saint Jean des Grésillons\, 17\, rue du 19 mars 1962\, église St Jean des Grésillons 17\, rue du 19 mars 1962\, GENNEVILLIERS\, 92230\, France
ATTACH;FMTTYPE=image/jpeg:https://paroissegennevilliers.fr/wp-content/uploads/2021/08/kt_2019_sauter_de_joie.jpg
END:VEVENT
END:VCALENDAR