BEGIN:VCALENDAR
VERSION:2.0
PRODID:-//Paroisse catholique de Gennevilliers &amp; Asnières-Grésillons - ECPv6.15.20//NONSGML v1.0//EN
CALSCALE:GREGORIAN
METHOD:PUBLISH
X-WR-CALNAME:Paroisse catholique de Gennevilliers &amp; Asnières-Grésillons
X-ORIGINAL-URL:https://paroissegennevilliers.fr
X-WR-CALDESC:Évènements pour Paroisse catholique de Gennevilliers &amp; Asnières-Grésillons
REFRESH-INTERVAL;VALUE=DURATION:PT1H
X-Robots-Tag:noindex
X-PUBLISHED-TTL:PT1H
BEGIN:VTIMEZONE
TZID:Europe/Paris
BEGIN:DAYLIGHT
TZOFFSETFROM:+0100
TZOFFSETTO:+0200
TZNAME:CEST
DTSTART:20230326T010000
END:DAYLIGHT
BEGIN:STANDARD
TZOFFSETFROM:+0200
TZOFFSETTO:+0100
TZNAME:CET
DTSTART:20231029T010000
END:STANDARD
BEGIN:DAYLIGHT
TZOFFSETFROM:+0100
TZOFFSETTO:+0200
TZNAME:CEST
DTSTART:20240331T010000
END:DAYLIGHT
BEGIN:STANDARD
TZOFFSETFROM:+0200
TZOFFSETTO:+0100
TZNAME:CET
DTSTART:20241027T010000
END:STANDARD
BEGIN:DAYLIGHT
TZOFFSETFROM:+0100
TZOFFSETTO:+0200
TZNAME:CEST
DTSTART:20250330T010000
END:DAYLIGHT
BEGIN:STANDARD
TZOFFSETFROM:+0200
TZOFFSETTO:+0100
TZNAME:CET
DTSTART:20251026T010000
END:STANDARD
END:VTIMEZONE
BEGIN:VEVENT
DTSTART;TZID=Europe/Paris:20240929T150000
DTEND;TZID=Europe/Paris:20240929T163000
DTSTAMP:20260423T164551
CREATED:20240925T065811Z
LAST-MODIFIED:20240925T065811Z
UID:11569-1727622000-1727627400@paroissegennevilliers.fr
SUMMARY:Comment parler de sa foi avec des croyants d'autres religions 15h-16h30
DESCRIPTION:Samedi 28 septembre\n14h30 : Accueil et café\, à ND des Agnettes (26\, rue Louis Calmel) \n14h45 : Prière\, à ND des Agnettes \n15h – 17h : La Mission selon St Paul\, à ND des Agnettes \n  \n18h30 Messe à ND des Agnettes \n  \n20h30 – 21h30 Veillée de prière en lien avec le Temps de la Création : \n« Allez dans le monde entier. Proclamez l’Évangile à toute la création. » (Marc 16\,15) \n  \nDimanche 29 septembre\n9h30 Messe à St Jean des Grésillons \n11h Messe à Ste Marie-Madeleine \n  \n15h – 16h30 Comment parler de sa foi avec des croyants d’autres religions ?
URL:https://paroissegennevilliers.fr/evenement/comment-parler-de-sa-foi-avec-des-croyants-dautres-religions-15h-16h30/
LOCATION:Notre-Dame des Agnettes\, 26\, rue Louis Calmel\, 26\, rue Louis Calmel\, Gennevilliers\, 92230\, France
ATTACH;FMTTYPE=image/png:https://paroissegennevilliers.fr/wp-content/uploads/2024/09/congresmission-2024.png
END:VEVENT
END:VCALENDAR