BEGIN:VCALENDAR
VERSION:2.0
PRODID:-//Paroisse catholique de Gennevilliers &amp; Asnières-Grésillons - ECPv6.15.20//NONSGML v1.0//EN
CALSCALE:GREGORIAN
METHOD:PUBLISH
X-ORIGINAL-URL:https://paroissegennevilliers.fr
X-WR-CALDESC:Évènements pour Paroisse catholique de Gennevilliers &amp; Asnières-Grésillons
REFRESH-INTERVAL;VALUE=DURATION:PT1H
X-Robots-Tag:noindex
X-PUBLISHED-TTL:PT1H
BEGIN:VTIMEZONE
TZID:Europe/Paris
BEGIN:DAYLIGHT
TZOFFSETFROM:+0100
TZOFFSETTO:+0200
TZNAME:CEST
DTSTART:20230326T010000
END:DAYLIGHT
BEGIN:STANDARD
TZOFFSETFROM:+0200
TZOFFSETTO:+0100
TZNAME:CET
DTSTART:20231029T010000
END:STANDARD
BEGIN:DAYLIGHT
TZOFFSETFROM:+0100
TZOFFSETTO:+0200
TZNAME:CEST
DTSTART:20240331T010000
END:DAYLIGHT
BEGIN:STANDARD
TZOFFSETFROM:+0200
TZOFFSETTO:+0100
TZNAME:CET
DTSTART:20241027T010000
END:STANDARD
BEGIN:DAYLIGHT
TZOFFSETFROM:+0100
TZOFFSETTO:+0200
TZNAME:CEST
DTSTART:20250330T010000
END:DAYLIGHT
BEGIN:STANDARD
TZOFFSETFROM:+0200
TZOFFSETTO:+0100
TZNAME:CET
DTSTART:20251026T010000
END:STANDARD
END:VTIMEZONE
BEGIN:VEVENT
DTSTART;TZID=Europe/Paris:20241128T200000
DTEND;TZID=Europe/Paris:20241128T223000
DTSTAMP:20260423T150630
CREATED:20241122T120712Z
LAST-MODIFIED:20241122T120712Z
UID:11869-1732824000-1732833000@paroissegennevilliers.fr
SUMMARY:Présentation des équipes CVX
DESCRIPTION:C’est une communauté de croyants\, cherchant à unifier leur vie quotidienne et leur foi\, ainsi qu’à trouver Dieu dans l’action\, à la suite de St Ignace de Loyola.Réunion une fois par mois\, en équipe locale\, pour permettre à chacun de parler et de se sentir écouté. Chacun des membres partage son quotidien\, en étant attentif à la manière dont le Christ y est présent. « C’est un soutien à son chemin intérieur ». \nInfos : https://www.cvxfrance.com/\, Jeudi 28 novembre à 20h-22h30 à l’église St Jean Contact : Amélie Loubet 06 48 83 79 07\, amelieloubet@gmail.com \n 
URL:https://paroissegennevilliers.fr/evenement/presentation-des-equipes-cvx/
LOCATION:Saint Jean des Grésillons\, 17\, rue du 19 mars 1962\, église St Jean des Grésillons 17\, rue du 19 mars 1962\, GENNEVILLIERS\, 92230\, France
ATTACH;FMTTYPE=image/png:https://paroissegennevilliers.fr/wp-content/uploads/2024/11/2024.11.28-Presentation-CVX.png
END:VEVENT
END:VCALENDAR