BEGIN:VCALENDAR
VERSION:2.0
PRODID:-//Paroisse catholique de Gennevilliers &amp; Asnières-Grésillons - ECPv6.15.20//NONSGML v1.0//EN
CALSCALE:GREGORIAN
METHOD:PUBLISH
X-WR-CALNAME:Paroisse catholique de Gennevilliers &amp; Asnières-Grésillons
X-ORIGINAL-URL:https://paroissegennevilliers.fr
X-WR-CALDESC:Évènements pour Paroisse catholique de Gennevilliers &amp; Asnières-Grésillons
REFRESH-INTERVAL;VALUE=DURATION:PT1H
X-Robots-Tag:noindex
X-PUBLISHED-TTL:PT1H
BEGIN:VTIMEZONE
TZID:Europe/Paris
BEGIN:DAYLIGHT
TZOFFSETFROM:+0100
TZOFFSETTO:+0200
TZNAME:CEST
DTSTART:20240331T010000
END:DAYLIGHT
BEGIN:STANDARD
TZOFFSETFROM:+0200
TZOFFSETTO:+0100
TZNAME:CET
DTSTART:20241027T010000
END:STANDARD
BEGIN:DAYLIGHT
TZOFFSETFROM:+0100
TZOFFSETTO:+0200
TZNAME:CEST
DTSTART:20250330T010000
END:DAYLIGHT
BEGIN:STANDARD
TZOFFSETFROM:+0200
TZOFFSETTO:+0100
TZNAME:CET
DTSTART:20251026T010000
END:STANDARD
BEGIN:DAYLIGHT
TZOFFSETFROM:+0100
TZOFFSETTO:+0200
TZNAME:CEST
DTSTART:20260329T010000
END:DAYLIGHT
BEGIN:STANDARD
TZOFFSETFROM:+0200
TZOFFSETTO:+0100
TZNAME:CET
DTSTART:20261025T010000
END:STANDARD
END:VTIMEZONE
BEGIN:VEVENT
DTSTART;TZID=Europe/Paris:20250529T093000
DTEND;TZID=Europe/Paris:20250529T103000
DTSTAMP:20260423T123359
CREATED:20230507T070038Z
LAST-MODIFIED:20250502T103948Z
UID:5737-1748511000-1748514600@paroissegennevilliers.fr
SUMMARY:Messe de l'ASCENSION à 9h30
DESCRIPTION:40 Jours après Pâques Jésus monta au Ciel.\n« Le Seigneur Jésus\, après leur avoir parlé\, fut enlevé au ciel et s’assit à la droite de Dieu. Quant à eux\, ils s’en allèrent proclamer partout l’Evangile. Le Seigneur travaillait avec eux  et confirmait la Parole par les signes qui l’accompagnaient ». (Marc 16\, 19-20) \n  \n  \n \n 
URL:https://paroissegennevilliers.fr/evenement/messe-de-lascension-4/
LOCATION:Saint Jean des Grésillons\, 17\, rue du 19 mars 1962\, église St Jean des Grésillons 17\, rue du 19 mars 1962\, GENNEVILLIERS\, 92230\, France
ATTACH;FMTTYPE=image/jpeg:https://paroissegennevilliers.fr/wp-content/uploads/2023/05/2025.05.29-Ascension-Messes.jpg
END:VEVENT
BEGIN:VEVENT
DTSTART;TZID=Europe/Paris:20250529T104500
DTEND;TZID=Europe/Paris:20250529T121500
DTSTAMP:20260423T123359
CREATED:20250505T064755Z
LAST-MODIFIED:20250528T064849Z
UID:7124-1748515500-1748520900@paroissegennevilliers.fr
SUMMARY:Echange du Dimanche (10h45-12h30)
DESCRIPTION:Dimanche 10h45-12h30 à l’église St Jean des Grésillons \n\n  \n 
URL:https://paroissegennevilliers.fr/evenement/dimanche-a-partager/
LOCATION:Saint Jean des Grésillons\, 17\, rue du 19 mars 1962\, église St Jean des Grésillons 17\, rue du 19 mars 1962\, GENNEVILLIERS\, 92230\, France
ATTACH;FMTTYPE=image/jpeg:https://paroissegennevilliers.fr/wp-content/uploads/2025/04/2024.03.09-echange-du-dimanche-pardon-puis-dejeuner1.jpg
END:VEVENT
BEGIN:VEVENT
DTSTART;TZID=Europe/Paris:20250529T110000
DTEND;TZID=Europe/Paris:20250529T120000
DTSTAMP:20260423T123359
CREATED:20230507T065231Z
LAST-MODIFIED:20250502T103830Z
UID:5730-1748516400-1748520000@paroissegennevilliers.fr
SUMMARY:MESSE de l'ASCENSION à 11h
DESCRIPTION:40 Jours après Pâques Jésus monta au Ciel.\n« Le Seigneur Jésus\, après leur avoir parlé\, fut enlevé au ciel et s’assit à la droite de Dieu. Quant à eux\, ils s’en allèrent proclamer partout l’Evangile. Le Seigneur travaillait avec eux  et confirmait la Parole par les signes qui l’accompagnaient ». (Marc 16\, 19-20) \n \n  \njeudi 29 mai à 9h30 à l’église St Jean des Grésillons (17\, rue du 19 mars 1962) \n 
URL:https://paroissegennevilliers.fr/evenement/messe-de-lascension/
LOCATION:Eglise Ste Marie-Madeleine\, Place Jean Grandel\, Place Jean Grandel\, Gennevilliers\, 92230\, France
CATEGORIES:Messe
END:VEVENT
BEGIN:VEVENT
DTSTART;TZID=Europe/Paris:20250529T143000
DTEND;TZID=Europe/Paris:20250529T173000
DTSTAMP:20260423T123359
CREATED:20250528T070059Z
LAST-MODIFIED:20250528T070308Z
UID:12955-1748529000-1748539800@paroissegennevilliers.fr
SUMMARY:Re-découvrir qui est l'Esprit Saint\, Qui est l’Esprit Saint dans la Bible ?  Comment être rempli de l’Esprit St ?
DESCRIPTION:Jeudi 29 mai : 14h30-17h30 à St Jean : \nQui est l’Esprit Saint dans la Bible ? \nComment être rempli de l’Esprit St ? \nchants à l’Esprit Saint\, prière\, … \n 
URL:https://paroissegennevilliers.fr/evenement/re-decouvrir-qui-est-lesprit-saint/
LOCATION:Notre-Dame des Agnettes\, 26\, rue Louis Calmel\, 26\, rue Louis Calmel\, Gennevilliers\, 92230\, France
ATTACH;FMTTYPE=image/jpeg:https://paroissegennevilliers.fr/wp-content/uploads/2025/05/2025.05.29.31-Bandeau-Alpha-WE-Esprit-Saint.jpg
END:VEVENT
END:VCALENDAR