BEGIN:VCALENDAR
VERSION:2.0
PRODID:-//Paroisse catholique de Gennevilliers &amp; Asnières-Grésillons - ECPv6.15.20//NONSGML v1.0//EN
CALSCALE:GREGORIAN
METHOD:PUBLISH
X-ORIGINAL-URL:https://paroissegennevilliers.fr
X-WR-CALDESC:Évènements pour Paroisse catholique de Gennevilliers &amp; Asnières-Grésillons
REFRESH-INTERVAL;VALUE=DURATION:PT1H
X-Robots-Tag:noindex
X-PUBLISHED-TTL:PT1H
BEGIN:VTIMEZONE
TZID:Europe/Paris
BEGIN:DAYLIGHT
TZOFFSETFROM:+0100
TZOFFSETTO:+0200
TZNAME:CEST
DTSTART:20240331T010000
END:DAYLIGHT
BEGIN:STANDARD
TZOFFSETFROM:+0200
TZOFFSETTO:+0100
TZNAME:CET
DTSTART:20241027T010000
END:STANDARD
BEGIN:DAYLIGHT
TZOFFSETFROM:+0100
TZOFFSETTO:+0200
TZNAME:CEST
DTSTART:20250330T010000
END:DAYLIGHT
BEGIN:STANDARD
TZOFFSETFROM:+0200
TZOFFSETTO:+0100
TZNAME:CET
DTSTART:20251026T010000
END:STANDARD
BEGIN:DAYLIGHT
TZOFFSETFROM:+0100
TZOFFSETTO:+0200
TZNAME:CEST
DTSTART:20260329T010000
END:DAYLIGHT
BEGIN:STANDARD
TZOFFSETFROM:+0200
TZOFFSETTO:+0100
TZNAME:CET
DTSTART:20261025T010000
END:STANDARD
END:VTIMEZONE
BEGIN:VEVENT
DTSTART;TZID=Europe/Paris:20250531T090000
DTEND;TZID=Europe/Paris:20250531T093000
DTSTAMP:20260421T144135
CREATED:20250528T065846Z
LAST-MODIFIED:20250528T065956Z
UID:12953-1748682000-1748683800@paroissegennevilliers.fr
SUMMARY:Messe de la Visitation 9h
DESCRIPTION:Messe de la Visitation de la Vierge
URL:https://paroissegennevilliers.fr/evenement/messe-de-la-visitation-9h/
LOCATION:Notre-Dame des Agnettes\, 26\, rue Louis Calmel\, 26\, rue Louis Calmel\, Gennevilliers\, 92230\, France
ATTACH;FMTTYPE=image/png:https://paroissegennevilliers.fr/wp-content/uploads/2020/09/messe.png
END:VEVENT
BEGIN:VEVENT
DTSTART;TZID=Europe/Paris:20250531T093000
DTEND;TZID=Europe/Paris:20250531T120000
DTSTAMP:20260421T144135
CREATED:20250528T070226Z
LAST-MODIFIED:20250528T070226Z
UID:12957-1748683800-1748692800@paroissegennevilliers.fr
SUMMARY:Re-découvrir qui est l'Esprit Saint\, les 7 dons et le fruit de l’Esprit Saint\,
DESCRIPTION:9h30-12h à ND des Agnettes : \nles 7 dons et le fruit de l’Esprit Saint\, \nla confirmation\, \nPrière
URL:https://paroissegennevilliers.fr/evenement/re-decouvrir-qui-est-lesprit-saint-les-7-dons-et-le-fruit-de-lesprit-saint/
LOCATION:Notre-Dame des Agnettes\, 26\, rue Louis Calmel\, 26\, rue Louis Calmel\, Gennevilliers\, 92230\, France
ATTACH;FMTTYPE=image/jpeg:https://paroissegennevilliers.fr/wp-content/uploads/2025/05/2025.05.29.31-Bandeau-Alpha-WE-Esprit-Saint.jpg
END:VEVENT
BEGIN:VEVENT
DTSTART;TZID=Europe/Paris:20250531T140000
DTEND;TZID=Europe/Paris:20250531T160000
DTSTAMP:20260421T144135
CREATED:20250501T070102Z
LAST-MODIFIED:20250515T235059Z
UID:7130-1748700000-1748707200@paroissegennevilliers.fr
SUMMARY:Rencontre des 6° (14h-16h)
DESCRIPTION:Les collégiens de 6° se réunissent un samedi sur 2 à l’église St Jean (en dehors des vacances scolaires)
URL:https://paroissegennevilliers.fr/evenement/rencontre-des-6-et-5/
LOCATION:Saint Jean des Grésillons\, 17\, rue du 19 mars 1962\, église St Jean des Grésillons 17\, rue du 19 mars 1962\, GENNEVILLIERS\, 92230\, France
CATEGORIES:Formation
ATTACH;FMTTYPE=image/jpeg:https://paroissegennevilliers.fr/wp-content/uploads/2025/04/2025.05.03-collegiens-6°-Resurrection.jpg
END:VEVENT
BEGIN:VEVENT
DTSTART;TZID=Europe/Paris:20250531T140000
DTEND;TZID=Europe/Paris:20250531T160000
DTSTAMP:20260421T144135
CREATED:20250501T070315Z
LAST-MODIFIED:20250515T235206Z
UID:7132-1748700000-1748707200@paroissegennevilliers.fr
SUMMARY:Rencontre des 5° (14h-16h)
DESCRIPTION:Les collégiens de 5° se rencontrent un samedi sur 2\, à l’église St Jean des Grésillons.
URL:https://paroissegennevilliers.fr/evenement/rencontre-des-4-et-3/
LOCATION:Saint Jean des Grésillons\, 17\, rue du 19 mars 1962\, église St Jean des Grésillons 17\, rue du 19 mars 1962\, GENNEVILLIERS\, 92230\, France
CATEGORIES:Formation,Prière
ATTACH;FMTTYPE=image/jpeg:https://paroissegennevilliers.fr/wp-content/uploads/2021/09/collegiens-pieds.jpg
END:VEVENT
END:VCALENDAR