BEGIN:VCALENDAR
VERSION:2.0
PRODID:-//Paroisse catholique de Gennevilliers &amp; Asnières-Grésillons - ECPv6.15.20//NONSGML v1.0//EN
CALSCALE:GREGORIAN
METHOD:PUBLISH
X-ORIGINAL-URL:https://paroissegennevilliers.fr
X-WR-CALDESC:Évènements pour Paroisse catholique de Gennevilliers &amp; Asnières-Grésillons
REFRESH-INTERVAL;VALUE=DURATION:PT1H
X-Robots-Tag:noindex
X-PUBLISHED-TTL:PT1H
BEGIN:VTIMEZONE
TZID:Europe/Paris
BEGIN:DAYLIGHT
TZOFFSETFROM:+0100
TZOFFSETTO:+0200
TZNAME:CEST
DTSTART:20240331T010000
END:DAYLIGHT
BEGIN:STANDARD
TZOFFSETFROM:+0200
TZOFFSETTO:+0100
TZNAME:CET
DTSTART:20241027T010000
END:STANDARD
BEGIN:DAYLIGHT
TZOFFSETFROM:+0100
TZOFFSETTO:+0200
TZNAME:CEST
DTSTART:20250330T010000
END:DAYLIGHT
BEGIN:STANDARD
TZOFFSETFROM:+0200
TZOFFSETTO:+0100
TZNAME:CET
DTSTART:20251026T010000
END:STANDARD
BEGIN:DAYLIGHT
TZOFFSETFROM:+0100
TZOFFSETTO:+0200
TZNAME:CEST
DTSTART:20260329T010000
END:DAYLIGHT
BEGIN:STANDARD
TZOFFSETFROM:+0200
TZOFFSETTO:+0100
TZNAME:CET
DTSTART:20261025T010000
END:STANDARD
END:VTIMEZONE
BEGIN:VEVENT
DTSTART;TZID=Europe/Paris:20251028T200000
DTEND;TZID=Europe/Paris:20251028T220000
DTSTAMP:20260423T110221
CREATED:20251016T065117Z
LAST-MODIFIED:20251017T135852Z
UID:6654-1761681600-1761688800@paroissegennevilliers.fr
SUMMARY:Réunion du Groupe Personnel de santé
DESCRIPTION:Le groupe « Personnel de santé » se réunit le mardi 28 octobre à 20h0à l’église ND des Agnettes. \n \nEn savoir + sur le groupe
URL:https://paroissegennevilliers.fr/evenement/reunion-du-groupe-personnel-de-sante/
LOCATION:Notre-Dame des Agnettes\, 26\, rue Louis Calmel\, 26\, rue Louis Calmel\, Gennevilliers\, 92230\, France
ATTACH;FMTTYPE=image/jpeg:https://paroissegennevilliers.fr/wp-content/uploads/2025/05/2025.10.28-Bandeau-personnel-de-sante.jpg
END:VEVENT
END:VCALENDAR