BEGIN:VCALENDAR
VERSION:2.0
PRODID:-//Paroisse catholique de Gennevilliers &amp; Asnières-Grésillons - ECPv6.15.20//NONSGML v1.0//EN
CALSCALE:GREGORIAN
METHOD:PUBLISH
X-ORIGINAL-URL:https://paroissegennevilliers.fr
X-WR-CALDESC:Évènements pour Paroisse catholique de Gennevilliers &amp; Asnières-Grésillons
REFRESH-INTERVAL;VALUE=DURATION:PT1H
X-Robots-Tag:noindex
X-PUBLISHED-TTL:PT1H
BEGIN:VTIMEZONE
TZID:Europe/Paris
BEGIN:DAYLIGHT
TZOFFSETFROM:+0100
TZOFFSETTO:+0200
TZNAME:CEST
DTSTART:20240331T010000
END:DAYLIGHT
BEGIN:STANDARD
TZOFFSETFROM:+0200
TZOFFSETTO:+0100
TZNAME:CET
DTSTART:20241027T010000
END:STANDARD
BEGIN:DAYLIGHT
TZOFFSETFROM:+0100
TZOFFSETTO:+0200
TZNAME:CEST
DTSTART:20250330T010000
END:DAYLIGHT
BEGIN:STANDARD
TZOFFSETFROM:+0200
TZOFFSETTO:+0100
TZNAME:CET
DTSTART:20251026T010000
END:STANDARD
BEGIN:DAYLIGHT
TZOFFSETFROM:+0100
TZOFFSETTO:+0200
TZNAME:CEST
DTSTART:20260329T010000
END:DAYLIGHT
BEGIN:STANDARD
TZOFFSETFROM:+0200
TZOFFSETTO:+0100
TZNAME:CET
DTSTART:20261025T010000
END:STANDARD
END:VTIMEZONE
BEGIN:VEVENT
DTSTART;TZID=Europe/Paris:20251101T093000
DTEND;TZID=Europe/Paris:20251101T103000
DTSTAMP:20260423T104918
CREATED:20251028T114601Z
LAST-MODIFIED:20251031T142729Z
UID:6689-1761989400-1761993000@paroissegennevilliers.fr
SUMMARY:Messe de Toussaint à 9h30
DESCRIPTION:Vendredi 31 octobre: 19h à ND des Agnettes \nSamedi 1° novembre à 9h30 à St Jean des Grésillons \net à 11h à St Marie Madeleine
URL:https://paroissegennevilliers.fr/evenement/messe-de-toussaint-2/
LOCATION:Saint Jean des Grésillons\, 17\, rue du 19 mars 1962\, église St Jean des Grésillons 17\, rue du 19 mars 1962\, GENNEVILLIERS\, 92230\, France
CATEGORIES:Messe
ATTACH;FMTTYPE=image/jpeg:https://paroissegennevilliers.fr/wp-content/uploads/2025/10/2025.11.01-02-Bandeau-Toussaint-2025.jpg
END:VEVENT
BEGIN:VEVENT
DTSTART;TZID=Europe/Paris:20251101T110000
DTEND;TZID=Europe/Paris:20251101T120000
DTSTAMP:20260423T104918
CREATED:20231025T071056Z
LAST-MODIFIED:20251029T071911Z
UID:9881-1761994800-1761998400@paroissegennevilliers.fr
SUMMARY:Messe\, Commémoration des fidèles défunts\, à 18h30
DESCRIPTION:Messe à ND des Agnettes
URL:https://paroissegennevilliers.fr/evenement/messe-commemoration-des-fideles-defunts/
LOCATION:Notre-Dame des Agnettes\, 26\, rue Louis Calmel\, 26\, rue Louis Calmel\, Gennevilliers\, 92230\, France
ATTACH;FMTTYPE=image/jpeg:https://paroissegennevilliers.fr/wp-content/uploads/2025/10/2025.11.01-02-Bandeau-Toussaint-2025.jpg
END:VEVENT
BEGIN:VEVENT
DTSTART;TZID=Europe/Paris:20251101T110000
DTEND;TZID=Europe/Paris:20251101T120000
DTSTAMP:20260423T104918
CREATED:20251028T113824Z
LAST-MODIFIED:20251031T142849Z
UID:6687-1761994800-1761998400@paroissegennevilliers.fr
SUMMARY:Messe de Toussaint à 11h
DESCRIPTION:Vendredi 31 octobre à 19h à ND des Agnettes \nSamedi 1° novembre à 9h30 à St Jean des Grésillons \net à 11h à St Marie Madeleine \n 
URL:https://paroissegennevilliers.fr/evenement/messe-de-toussaint/
LOCATION:Eglise Ste Marie-Madeleine\, Place Jean Grandel\, Place Jean Grandel\, Gennevilliers\, 92230\, France
ATTACH;FMTTYPE=image/jpeg:https://paroissegennevilliers.fr/wp-content/uploads/2025/10/2025.11.01-02-Bandeau-Toussaint-2025.jpg
END:VEVENT
BEGIN:VEVENT
DTSTART;TZID=Europe/Paris:20251101T150000
DTEND;TZID=Europe/Paris:20251101T163000
DTSTAMP:20260423T104918
CREATED:20251031T112923Z
LAST-MODIFIED:20251031T143112Z
UID:14007-1762009200-1762014600@paroissegennevilliers.fr
SUMMARY:Bénédiction des tombes (15h)
DESCRIPTION:Bénédiction des tombes au cimetière de Gennevilliers par un prêtre. \nLivret prières cimetière vd \n 
URL:https://paroissegennevilliers.fr/evenement/benediction-des-tombes-1-novembre-15h/
LOCATION:cimetière Gennevilliers\, 43\, rue Villebois Mareuil\, Gennevilliers\, France
ATTACH;FMTTYPE=image/jpeg:https://paroissegennevilliers.fr/wp-content/uploads/2025/10/cimetiere.jpg
END:VEVENT
END:VCALENDAR