BEGIN:VCALENDAR
VERSION:2.0
PRODID:-//Paroisse catholique de Gennevilliers &amp; Asnières-Grésillons - ECPv6.15.20//NONSGML v1.0//EN
CALSCALE:GREGORIAN
METHOD:PUBLISH
X-ORIGINAL-URL:https://paroissegennevilliers.fr
X-WR-CALDESC:Évènements pour Paroisse catholique de Gennevilliers &amp; Asnières-Grésillons
REFRESH-INTERVAL;VALUE=DURATION:PT1H
X-Robots-Tag:noindex
X-PUBLISHED-TTL:PT1H
BEGIN:VTIMEZONE
TZID:Europe/Paris
BEGIN:DAYLIGHT
TZOFFSETFROM:+0100
TZOFFSETTO:+0200
TZNAME:CEST
DTSTART:20240331T010000
END:DAYLIGHT
BEGIN:STANDARD
TZOFFSETFROM:+0200
TZOFFSETTO:+0100
TZNAME:CET
DTSTART:20241027T010000
END:STANDARD
BEGIN:DAYLIGHT
TZOFFSETFROM:+0100
TZOFFSETTO:+0200
TZNAME:CEST
DTSTART:20250330T010000
END:DAYLIGHT
BEGIN:STANDARD
TZOFFSETFROM:+0200
TZOFFSETTO:+0100
TZNAME:CET
DTSTART:20251026T010000
END:STANDARD
BEGIN:DAYLIGHT
TZOFFSETFROM:+0100
TZOFFSETTO:+0200
TZNAME:CEST
DTSTART:20260329T010000
END:DAYLIGHT
BEGIN:STANDARD
TZOFFSETFROM:+0200
TZOFFSETTO:+0100
TZNAME:CET
DTSTART:20261025T010000
END:STANDARD
END:VTIMEZONE
BEGIN:VEVENT
DTSTART;TZID=Europe/Paris:20251108T101500
DTEND;TZID=Europe/Paris:20251108T110000
DTSTAMP:20260423T121651
CREATED:20251029T072229Z
LAST-MODIFIED:20251029T072229Z
UID:13999-1762596900-1762599600@paroissegennevilliers.fr
SUMMARY:Inscription au catéchisme (17h45-18h30)
DESCRIPTION:En septembre\, la catéchèse a redémarré ; voici les renseignements pour la rentrée 2025-2026 : \nÀ l’attention de tous les Parents dont les enfants sont nés entre le 1er janvier 2015 et le 31 décembre 2017 (soit en CE2\, CM1 ou CM2)\, baptisés ou pas.\n \n\nA l’église Notre-Dame des Agnettes (26\, rue Louis Calmel)\n\nmercredi 5 novembre 17h45-18h30\nsamedi 8 novembre 10h15-11h\n\n\n\nCatéchèse ou catéchisme : 2 mots différents pour une même réalité. Tout homme est en quête de donner un sens à sa vie. Le caté aide à cheminer dans la découverte de Dieu qui nous est révélé par Jésus-Christ. Savez-vous\, par exemple\, que Dieu aime chacun de nous ? A notre tour d’aimer Dieu et d’aimer nos frères. \n  \nUne participation financière est demandée à l’inscription. Elle ne doit pas être un empêchement à la venue des enfants. Elle peut être réglée en espèces\, par chèque ou par Carte bleue. \nVisitez la page caté de ce site
URL:https://paroissegennevilliers.fr/evenement/inscription-au-catechisme-17h45-18h30/
LOCATION:Notre-Dame des Agnettes\, 26\, rue Louis Calmel\, 26\, rue Louis Calmel\, Gennevilliers\, 92230\, France
CATEGORIES:Formation
ATTACH;FMTTYPE=image/png:https://paroissegennevilliers.fr/wp-content/uploads/2025/06/manga-cate-bandeau-site.png
END:VEVENT
BEGIN:VEVENT
DTSTART;TZID=Europe/Paris:20251108T101500
DTEND;TZID=Europe/Paris:20251108T113000
DTSTAMP:20260423T121651
CREATED:20251013T073210Z
LAST-MODIFIED:20251107T131759Z
UID:9412-1762596900-1762601400@paroissegennevilliers.fr
SUMMARY:Inscription au catéchisme (10h15-11h30)
DESCRIPTION:En septembre\, la catéchèse a redémarré ; voici les renseignements pour la rentrée 2025-2026 : \nÀ l’attention de tous les Parents dont les enfants sont nés entre le 1er janvier 2015 et le 31 décembre 2017 (soit en CE2\, CM1 ou CM2)\, baptisés ou pas.\n \n\nA l’église Notre-Dame des Agnettes (26\, rue Louis Calmel)\n\nmercredi 5 novembre 17h45-18h30\nsamedi 8 novembre 10h15-11h\n\n\n\nCatéchèse ou catéchisme : 2 mots différents pour une même réalité. Tout homme est en quête de donner un sens à sa vie. Le caté aide à cheminer dans la découverte de Dieu qui nous est révélé par Jésus-Christ. Savez-vous\, par exemple\, que Dieu aime chacun de nous ? A notre tour d’aimer Dieu et d’aimer nos frères. \n  \nUne participation financière est demandée à l’inscription. Elle ne doit pas être un empêchement à la venue des enfants. Elle peut être réglée en espèces\, par chèque ou par Carte bleue. \nVisitez la page caté de ce site
URL:https://paroissegennevilliers.fr/evenement/inscription-au-catechisme-17/
LOCATION:Notre-Dame des Agnettes\, 26\, rue Louis Calmel\, 26\, rue Louis Calmel\, Gennevilliers\, 92230\, France
CATEGORIES:Formation
ATTACH;FMTTYPE=image/png:https://paroissegennevilliers.fr/wp-content/uploads/2025/06/manga-cate-bandeau-site.png
END:VEVENT
END:VCALENDAR