BEGIN:VCALENDAR
VERSION:2.0
PRODID:-//Paroisse catholique de Gennevilliers &amp; Asnières-Grésillons - ECPv6.15.20//NONSGML v1.0//EN
CALSCALE:GREGORIAN
METHOD:PUBLISH
X-ORIGINAL-URL:https://paroissegennevilliers.fr
X-WR-CALDESC:Évènements pour Paroisse catholique de Gennevilliers &amp; Asnières-Grésillons
REFRESH-INTERVAL;VALUE=DURATION:PT1H
X-Robots-Tag:noindex
X-PUBLISHED-TTL:PT1H
BEGIN:VTIMEZONE
TZID:Europe/Paris
BEGIN:DAYLIGHT
TZOFFSETFROM:+0100
TZOFFSETTO:+0200
TZNAME:CEST
DTSTART:20240331T010000
END:DAYLIGHT
BEGIN:STANDARD
TZOFFSETFROM:+0200
TZOFFSETTO:+0100
TZNAME:CET
DTSTART:20241027T010000
END:STANDARD
BEGIN:DAYLIGHT
TZOFFSETFROM:+0100
TZOFFSETTO:+0200
TZNAME:CEST
DTSTART:20250330T010000
END:DAYLIGHT
BEGIN:STANDARD
TZOFFSETFROM:+0200
TZOFFSETTO:+0100
TZNAME:CET
DTSTART:20251026T010000
END:STANDARD
BEGIN:DAYLIGHT
TZOFFSETFROM:+0100
TZOFFSETTO:+0200
TZNAME:CEST
DTSTART:20260329T010000
END:DAYLIGHT
BEGIN:STANDARD
TZOFFSETFROM:+0200
TZOFFSETTO:+0100
TZNAME:CET
DTSTART:20261025T010000
END:STANDARD
END:VTIMEZONE
BEGIN:VEVENT
DTSTART;TZID=Europe/Paris:20251213T190000
DTEND;TZID=Europe/Paris:20251213T203000
DTSTAMP:20260419T170030
CREATED:20251205T171724Z
LAST-MODIFIED:20251212T001826Z
UID:11637-1765652400-1765657800@paroissegennevilliers.fr
SUMMARY:Concert à 19h
DESCRIPTION:Chants de Noël de la chorale Amitié : (de Gennevilliers)\n– Noël Nouvelet\n– Noël de Paix\n– Mary had a Baby\n– La Tendresse\n– Noël Jazz\n– Ah Plaignez tant\n– Les Anges de nos campagnes\n– Dona Nobis Pacem\n– L’Eglise de Harlem\n– Doucement s’endort la terre\n– Douce Nuit\n\n\nEt la liste de la Chorale ReBel-Canto : (de Clichy)\n– Oh freedom (negro spiritual)\n– Steal away (negro spiritual)\n– die Gedanken sind frei (chant populaire allemand)\n– Nkosi Sikele I Afrika (Hymne sud-africain)\n– En Belen tocan a fuego (chant traditionnel sud-américain)\n– Dona Nobis Pacem (canon)\n– Arirang (chant populaire coréen)…. peut-être.
URL:https://paroissegennevilliers.fr/evenement/concert-16h-17h/
LOCATION:Eglise Ste Marie-Madeleine\, Place Jean Grandel\, Place Jean Grandel\, Gennevilliers\, 92230\, France
ATTACH;FMTTYPE=image/jpeg:https://paroissegennevilliers.fr/wp-content/uploads/2024/10/2025.12.13-Chants-de-Noel.jpeg
END:VEVENT
END:VCALENDAR