BEGIN:VCALENDAR
VERSION:2.0
PRODID:-//Paroisse catholique de Gennevilliers &amp; Asnières-Grésillons - ECPv6.15.20//NONSGML v1.0//EN
CALSCALE:GREGORIAN
METHOD:PUBLISH
X-WR-CALNAME:Paroisse catholique de Gennevilliers &amp; Asnières-Grésillons
X-ORIGINAL-URL:https://paroissegennevilliers.fr
X-WR-CALDESC:Évènements pour Paroisse catholique de Gennevilliers &amp; Asnières-Grésillons
REFRESH-INTERVAL;VALUE=DURATION:PT1H
X-Robots-Tag:noindex
X-PUBLISHED-TTL:PT1H
BEGIN:VTIMEZONE
TZID:Europe/Paris
BEGIN:DAYLIGHT
TZOFFSETFROM:+0100
TZOFFSETTO:+0200
TZNAME:CEST
DTSTART:20250330T010000
END:DAYLIGHT
BEGIN:STANDARD
TZOFFSETFROM:+0200
TZOFFSETTO:+0100
TZNAME:CET
DTSTART:20251026T010000
END:STANDARD
BEGIN:DAYLIGHT
TZOFFSETFROM:+0100
TZOFFSETTO:+0200
TZNAME:CEST
DTSTART:20260329T010000
END:DAYLIGHT
BEGIN:STANDARD
TZOFFSETFROM:+0200
TZOFFSETTO:+0100
TZNAME:CET
DTSTART:20261025T010000
END:STANDARD
BEGIN:DAYLIGHT
TZOFFSETFROM:+0100
TZOFFSETTO:+0200
TZNAME:CEST
DTSTART:20270328T010000
END:DAYLIGHT
BEGIN:STANDARD
TZOFFSETFROM:+0200
TZOFFSETTO:+0100
TZNAME:CET
DTSTART:20271031T010000
END:STANDARD
END:VTIMEZONE
BEGIN:VEVENT
DTSTART;TZID=Europe/Paris:20260104T093000
DTEND;TZID=Europe/Paris:20260104T103000
DTSTAMP:20260419T151310
CREATED:20221221T091113Z
LAST-MODIFIED:20260101T191549Z
UID:8583-1767519000-1767522600@paroissegennevilliers.fr
SUMMARY:Messe de l’Épiphanie à 9h30
DESCRIPTION:Messe de l’Epiphanie
URL:https://paroissegennevilliers.fr/evenement/messe-de-lepiphanie/
LOCATION:Saint Jean des Grésillons\, 17\, rue du 19 mars 1962\, église St Jean des Grésillons 17\, rue du 19 mars 1962\, GENNEVILLIERS\, 92230\, France
ATTACH;FMTTYPE=image/jpeg:https://paroissegennevilliers.fr/wp-content/uploads/2025/12/2026.01.04-05-Bandeau-Epiphanie.jpg
END:VEVENT
BEGIN:VEVENT
DTSTART;TZID=Europe/Paris:20260104T110000
DTEND;TZID=Europe/Paris:20260104T120000
DTSTAMP:20260419T151310
CREATED:20211222T080605Z
LAST-MODIFIED:20260101T191641Z
UID:7077-1767524400-1767528000@paroissegennevilliers.fr
SUMMARY:Messe de l’Épiphanie 11h
DESCRIPTION:Messe de l’Epiphanie.
URL:https://paroissegennevilliers.fr/evenement/messe-de-lepiphanie-2/
LOCATION:Eglise Ste Marie-Madeleine\, Place Jean Grandel\, Place Jean Grandel\, Gennevilliers\, 92230\, France
ATTACH;FMTTYPE=image/jpeg:https://paroissegennevilliers.fr/wp-content/uploads/2025/12/2026.01.04-05-Bandeau-Epiphanie.jpg
END:VEVENT
END:VCALENDAR