BEGIN:VCALENDAR
VERSION:2.0
PRODID:-//Paroisse catholique de Gennevilliers &amp; Asnières-Grésillons - ECPv6.15.20//NONSGML v1.0//EN
CALSCALE:GREGORIAN
METHOD:PUBLISH
X-WR-CALNAME:Paroisse catholique de Gennevilliers &amp; Asnières-Grésillons
X-ORIGINAL-URL:https://paroissegennevilliers.fr
X-WR-CALDESC:Évènements pour Paroisse catholique de Gennevilliers &amp; Asnières-Grésillons
REFRESH-INTERVAL;VALUE=DURATION:PT1H
X-Robots-Tag:noindex
X-PUBLISHED-TTL:PT1H
BEGIN:VTIMEZONE
TZID:Europe/Paris
BEGIN:DAYLIGHT
TZOFFSETFROM:+0100
TZOFFSETTO:+0200
TZNAME:CEST
DTSTART:20250330T010000
END:DAYLIGHT
BEGIN:STANDARD
TZOFFSETFROM:+0200
TZOFFSETTO:+0100
TZNAME:CET
DTSTART:20251026T010000
END:STANDARD
BEGIN:DAYLIGHT
TZOFFSETFROM:+0100
TZOFFSETTO:+0200
TZNAME:CEST
DTSTART:20260329T010000
END:DAYLIGHT
BEGIN:STANDARD
TZOFFSETFROM:+0200
TZOFFSETTO:+0100
TZNAME:CET
DTSTART:20261025T010000
END:STANDARD
BEGIN:DAYLIGHT
TZOFFSETFROM:+0100
TZOFFSETTO:+0200
TZNAME:CEST
DTSTART:20270328T010000
END:DAYLIGHT
BEGIN:STANDARD
TZOFFSETFROM:+0200
TZOFFSETTO:+0100
TZNAME:CET
DTSTART:20271031T010000
END:STANDARD
END:VTIMEZONE
BEGIN:VEVENT
DTSTART;TZID=Europe/Paris:20260426T084500
DTEND;TZID=Europe/Paris:20260426T092500
DTSTAMP:20260426T014607
CREATED:20251010T113904Z
LAST-MODIFIED:20260422T071329Z
UID:13427-1777193100-1777195500@paroissegennevilliers.fr
SUMMARY:Prier le Chapelet 8h45
DESCRIPTION:Les dimanches avant la messe de 9h30 à l’église St Jean\, prions ensemble le chapelet à partir de 8h45 \n 
URL:https://paroissegennevilliers.fr/evenement/prier-le-chapelet-8h45/
LOCATION:Saint Jean des Grésillons\, 17\, rue du 19 mars 1962\, église St Jean des Grésillons 17\, rue du 19 mars 1962\, GENNEVILLIERS\, 92230\, France
CATEGORIES:Prière
ATTACH;FMTTYPE=image/jpeg:https://paroissegennevilliers.fr/wp-content/uploads/2021/07/chapelet.jpg
END:VEVENT
BEGIN:VEVENT
DTSTART;TZID=Europe/Paris:20260426T093000
DTEND;TZID=Europe/Paris:20260426T103000
DTSTAMP:20260426T014607
CREATED:20251010T111100Z
LAST-MODIFIED:20260422T071349Z
UID:13391-1777195800-1777199400@paroissegennevilliers.fr
SUMMARY:MESSE 9h30
DESCRIPTION:Messe dominicale \nEglise ouverte à partir de 8h45 \nChapelet de 8h45 à 9h25 dans la chapelle derrière le choeur de l’église \nLa messe est suivie d’un café sur le parvis de l’église
URL:https://paroissegennevilliers.fr/evenement/messe-9h30/
LOCATION:Saint Jean des Grésillons\, 17\, rue du 19 mars 1962\, église St Jean des Grésillons 17\, rue du 19 mars 1962\, GENNEVILLIERS\, 92230\, France
ATTACH;FMTTYPE=image/png:https://paroissegennevilliers.fr/wp-content/uploads/2020/09/messe.png
END:VEVENT
BEGIN:VEVENT
DTSTART;TZID=Europe/Paris:20260426T100000
DTEND;TZID=Europe/Paris:20260426T121500
DTSTAMP:20260426T014607
CREATED:20251103T121414Z
LAST-MODIFIED:20260422T071403Z
UID:13393-1777197600-1777205700@paroissegennevilliers.fr
SUMMARY:Sainte Marie Madeleine est ouverte 10h-12h15
DESCRIPTION:L’église Ste Marie-Madeleine est ouverte mardi de 8h30 à 11h\, vendredi de 10h à 11h30 et dimanche de 10h à 12h15\nDimanche : messe à 11h
URL:https://paroissegennevilliers.fr/evenement/sainte-marie-madeleine-est-ouverte-10h-12h-9/
LOCATION:Eglise Ste Marie-Madeleine\, Place Jean Grandel\, Place Jean Grandel\, Gennevilliers\, 92230\, France
ATTACH;FMTTYPE=image/png:https://paroissegennevilliers.fr/wp-content/uploads/2019/09/Eglise-Ste-M.-Madeleine-4-bis.png
END:VEVENT
BEGIN:VEVENT
DTSTART;TZID=Europe/Paris:20260426T110000
DTEND;TZID=Europe/Paris:20260426T120000
DTSTAMP:20260426T014607
CREATED:20251020T111356Z
LAST-MODIFIED:20260422T071415Z
UID:13394-1777201200-1777204800@paroissegennevilliers.fr
SUMMARY:Messe 11h
DESCRIPTION:Messe dominicale \nEglise ouverte à partir de 10h
URL:https://paroissegennevilliers.fr/evenement/messe-11h/
LOCATION:Eglise Ste Marie-Madeleine\, Place Jean Grandel\, Place Jean Grandel\, Gennevilliers\, 92230\, France
CATEGORIES:Messe
ATTACH;FMTTYPE=image/png:https://paroissegennevilliers.fr/wp-content/uploads/2020/09/messe.png
END:VEVENT
END:VCALENDAR