BEGIN:VCALENDAR
VERSION:2.0
PRODID:-//Paroisse catholique de Gennevilliers &amp; Asnières-Grésillons - ECPv6.15.20//NONSGML v1.0//EN
CALSCALE:GREGORIAN
METHOD:PUBLISH
X-WR-CALNAME:Paroisse catholique de Gennevilliers &amp; Asnières-Grésillons
X-ORIGINAL-URL:https://paroissegennevilliers.fr
X-WR-CALDESC:Évènements pour Paroisse catholique de Gennevilliers &amp; Asnières-Grésillons
REFRESH-INTERVAL;VALUE=DURATION:PT1H
X-Robots-Tag:noindex
X-PUBLISHED-TTL:PT1H
BEGIN:VTIMEZONE
TZID:Europe/Paris
BEGIN:DAYLIGHT
TZOFFSETFROM:+0100
TZOFFSETTO:+0200
TZNAME:CEST
DTSTART:20250330T010000
END:DAYLIGHT
BEGIN:STANDARD
TZOFFSETFROM:+0200
TZOFFSETTO:+0100
TZNAME:CET
DTSTART:20251026T010000
END:STANDARD
BEGIN:DAYLIGHT
TZOFFSETFROM:+0100
TZOFFSETTO:+0200
TZNAME:CEST
DTSTART:20260329T010000
END:DAYLIGHT
BEGIN:STANDARD
TZOFFSETFROM:+0200
TZOFFSETTO:+0100
TZNAME:CET
DTSTART:20261025T010000
END:STANDARD
BEGIN:DAYLIGHT
TZOFFSETFROM:+0100
TZOFFSETTO:+0200
TZNAME:CEST
DTSTART:20270328T010000
END:DAYLIGHT
BEGIN:STANDARD
TZOFFSETFROM:+0200
TZOFFSETTO:+0100
TZNAME:CET
DTSTART:20271031T010000
END:STANDARD
END:VTIMEZONE
BEGIN:VEVENT
DTSTART;TZID=Europe/Paris:20260503T163000
DTEND;TZID=Europe/Paris:20260503T180000
DTSTAMP:20260423T122809
CREATED:20260411T094142Z
LAST-MODIFIED:20260421T133845Z
UID:14746-1777825800-1777831200@paroissegennevilliers.fr
SUMMARY:Parcours Alpha : Prier : pourquoi et comment? (16h30-18h)
DESCRIPTION:Après la réunion de lancement\, de présentation et de découverte du Parcours Alpha sur le sens de la vie\, à l’église ND des Agnettes\, nous continuons ce dimanche avec la \nQuestion : Lire la bible\, pourquoi et comment? \nOuverte à tous\, baptisés ou non\, curieux et personnes en recherche \nSans engagement pour les réunions suivantes \nEn savoir + sur le Parcours Alpha \n 
URL:https://paroissegennevilliers.fr/evenement/parcours-alpha-lire-la-bible-pourquoi-et-comment16h30-18h/
LOCATION:Notre-Dame des Agnettes\, 26\, rue Louis Calmel\, 26\, rue Louis Calmel\, Gennevilliers\, 92230\, France
CATEGORIES:Formation,Prière
ATTACH;FMTTYPE=image/jpeg:https://paroissegennevilliers.fr/wp-content/uploads/2026/04/2026.05.03-Bandeau-Alpha-Pourquoi-et-comment-prier.jpg
END:VEVENT
BEGIN:VEVENT
DTSTART;TZID=Europe/Paris:20260508T200000
DTEND;TZID=Europe/Paris:20260508T220000
DTSTAMP:20260423T122809
CREATED:20260405T063423Z
LAST-MODIFIED:20260422T074454Z
UID:8488-1778270400-1778277600@paroissegennevilliers.fr
SUMMARY:Rencontre des Lycéens (20h-22h)
DESCRIPTION:Les lycéens se réunissent l’église St Jean des Grésillons de 20h à 22h (sauf pendant les vacances scolaires)\, 1 vendredi sur 2 \nInscription sur place à partir de 19h45 \nEn savoir plus
URL:https://paroissegennevilliers.fr/evenement/rencontre-des-lyceens-exceptionnellement-a-nd-des-agnettes/
LOCATION:Saint Jean des Grésillons\, 17\, rue du 19 mars 1962\, église St Jean des Grésillons 17\, rue du 19 mars 1962\, GENNEVILLIERS\, 92230\, France
CATEGORIES:Formation,Prière
ATTACH;FMTTYPE=image/jpeg:https://paroissegennevilliers.fr/wp-content/uploads/2026/04/2026.04.10-Reunion-lyceens-AEP1.jpg
END:VEVENT
BEGIN:VEVENT
DTSTART;TZID=Europe/Paris:20260509T160000
DTEND;TZID=Europe/Paris:20260509T173000
DTSTAMP:20260423T122809
CREATED:20260219T085915Z
LAST-MODIFIED:20260422T071311Z
UID:4411-1778342400-1778347800@paroissegennevilliers.fr
SUMMARY:Rencontre de l'Eveil à la foi (4-7 ans)
DESCRIPTION:Rencontre des enfants de 4-7 ans\n+ d’infos
URL:https://paroissegennevilliers.fr/evenement/rencontre-de-leveil-a-la-foi-4-7-ans/
LOCATION:Saint Jean des Grésillons\, 17\, rue du 19 mars 1962\, église St Jean des Grésillons 17\, rue du 19 mars 1962\, GENNEVILLIERS\, 92230\, France
CATEGORIES:Formation
ATTACH;FMTTYPE=image/jpeg:https://paroissegennevilliers.fr/wp-content/uploads/2020/10/eveil-à-la-foi-4-7-ans.jpg
END:VEVENT
BEGIN:VEVENT
DTSTART;TZID=Europe/Paris:20260516T140000
DTEND;TZID=Europe/Paris:20260516T160000
DTSTAMP:20260423T122809
CREATED:20260109T175215Z
LAST-MODIFIED:20260422T071235Z
UID:4281-1778940000-1778947200@paroissegennevilliers.fr
SUMMARY:Réunion des collégiens 6->3° (14h-16h)
DESCRIPTION:Réunion des collégiens de l’Aumônerie\, 1 samedi sur 2 (hors des vacances scolaires)\, à l’église St Jean des Grésillons (17\, rue du 19 mars 1962) \nEn savoir sur l’Aumônerie des Collèges
URL:https://paroissegennevilliers.fr/evenement/reunion-des-6-5-4-3/
LOCATION:Saint Jean des Grésillons\, 17\, rue du 19 mars 1962\, église St Jean des Grésillons 17\, rue du 19 mars 1962\, GENNEVILLIERS\, 92230\, France
CATEGORIES:Formation
ATTACH;FMTTYPE=image/jpeg:https://paroissegennevilliers.fr/wp-content/uploads/2025/10/Bandeau-Reunion-des-collegiens1.jpg
END:VEVENT
BEGIN:VEVENT
DTSTART;TZID=Europe/Paris:20260517T163000
DTEND;TZID=Europe/Paris:20260517T180000
DTSTAMP:20260423T122809
CREATED:20260211T104233Z
LAST-MODIFIED:20260211T104233Z
UID:14747-1779035400-1779040800@paroissegennevilliers.fr
SUMMARY:Parcours Alpha : Dieu guérit-il aujourd'hui (16h30-18h)
DESCRIPTION:Après la réunion de lancement\, de présentation et de découverte du Parcours Alpha sur le sens de la vie\, à l’église ND des Agnettes\, nous continuons ce dimanche avec la \nQuestion : Dieu guérit-il aujourd’hui? \nOuverte à tous\, baptisés ou non\, curieux et personnes en recherche \nSans engagement pour les réunions suivantes \nEn savoir + sur le Parcours Alpha \n 
URL:https://paroissegennevilliers.fr/evenement/parcours-alpha-dieu-guerit-il-aujourdhui-16h30-18h/
LOCATION:Notre-Dame des Agnettes\, 26\, rue Louis Calmel\, 26\, rue Louis Calmel\, Gennevilliers\, 92230\, France
CATEGORIES:Formation,Prière
END:VEVENT
BEGIN:VEVENT
DTSTART;TZID=Europe/Paris:20260531T163000
DTEND;TZID=Europe/Paris:20260531T180000
DTSTAMP:20260423T122809
CREATED:20260211T104315Z
LAST-MODIFIED:20260211T104315Z
UID:14748-1780245000-1780250400@paroissegennevilliers.fr
SUMMARY:Parcours Alpha : en parler aux autres (16h30-18h)
DESCRIPTION:Après la réunion de lancement\, de présentation et de découverte du Parcours Alpha sur le sens de la vie\, à l’église ND des Agnettes\, nous continuons ce dimanche avec la \nQuestion : En parler aux autres? \nOuverte à tous\, baptisés ou non\, curieux et personnes en recherche \nSans engagement pour les réunions suivantes \nEn savoir + sur le Parcours Alpha \n 
URL:https://paroissegennevilliers.fr/evenement/parcours-alpha-en-parler-aux-autres-16h30-18h/
LOCATION:Notre-Dame des Agnettes\, 26\, rue Louis Calmel\, 26\, rue Louis Calmel\, Gennevilliers\, 92230\, France
CATEGORIES:Formation,Prière
END:VEVENT
END:VCALENDAR