BEGIN:VCALENDAR
VERSION:2.0
PRODID:-//Paroisse catholique de Gennevilliers &amp; Asnières-Grésillons - ECPv6.15.20//NONSGML v1.0//EN
CALSCALE:GREGORIAN
METHOD:PUBLISH
X-ORIGINAL-URL:https://paroissegennevilliers.fr
X-WR-CALDESC:Évènements pour Paroisse catholique de Gennevilliers &amp; Asnières-Grésillons
REFRESH-INTERVAL;VALUE=DURATION:PT1H
X-Robots-Tag:noindex
X-PUBLISHED-TTL:PT1H
BEGIN:VTIMEZONE
TZID:Europe/Paris
BEGIN:DAYLIGHT
TZOFFSETFROM:+0100
TZOFFSETTO:+0200
TZNAME:CEST
DTSTART:20240331T010000
END:DAYLIGHT
BEGIN:STANDARD
TZOFFSETFROM:+0200
TZOFFSETTO:+0100
TZNAME:CET
DTSTART:20241027T010000
END:STANDARD
BEGIN:DAYLIGHT
TZOFFSETFROM:+0100
TZOFFSETTO:+0200
TZNAME:CEST
DTSTART:20250330T010000
END:DAYLIGHT
BEGIN:STANDARD
TZOFFSETFROM:+0200
TZOFFSETTO:+0100
TZNAME:CET
DTSTART:20251026T010000
END:STANDARD
BEGIN:DAYLIGHT
TZOFFSETFROM:+0100
TZOFFSETTO:+0200
TZNAME:CEST
DTSTART:20260329T010000
END:DAYLIGHT
BEGIN:STANDARD
TZOFFSETFROM:+0200
TZOFFSETTO:+0100
TZNAME:CET
DTSTART:20261025T010000
END:STANDARD
END:VTIMEZONE
BEGIN:VEVENT
DTSTART;TZID=Europe/Paris:20250920T140000
DTEND;TZID=Europe/Paris:20250920T160000
DTSTAMP:20260423T225329
CREATED:20250830T100109Z
LAST-MODIFIED:20250905T165303Z
UID:12891-1758376800-1758384000@paroissegennevilliers.fr
SUMMARY:Réunion des collégiens 4°-3° (14h-16h)
DESCRIPTION:Réunion des collégiens des 4° et des 3° de l’Aumônerie\, 1 samedi sur 2 (hors des vacances scolaires)\, à l’église St Jean des Grésillons (17\, rue du 19 mars 1962) \n \nEn savoir sur l’Aumônerie des Collèges
URL:https://paroissegennevilliers.fr/evenement/reunion-des-collegiens-4-3-14h-16h/
LOCATION:Saint Jean des Grésillons\, 17\, rue du 19 mars 1962\, église St Jean des Grésillons 17\, rue du 19 mars 1962\, GENNEVILLIERS\, 92230\, France
CATEGORIES:Formation
ATTACH;FMTTYPE=image/jpeg:https://paroissegennevilliers.fr/wp-content/uploads/2025/08/Inscription-AEP-Collegiens.jpg
END:VEVENT
END:VCALENDAR