BEGIN:VCALENDAR
VERSION:2.0
PRODID:-//Paroisse catholique de Gennevilliers &amp; Asnières-Grésillons - ECPv6.15.20//NONSGML v1.0//EN
CALSCALE:GREGORIAN
METHOD:PUBLISH
X-WR-CALNAME:Paroisse catholique de Gennevilliers &amp; Asnières-Grésillons
X-ORIGINAL-URL:https://paroissegennevilliers.fr
X-WR-CALDESC:Évènements pour Paroisse catholique de Gennevilliers &amp; Asnières-Grésillons
REFRESH-INTERVAL;VALUE=DURATION:PT1H
X-Robots-Tag:noindex
X-PUBLISHED-TTL:PT1H
BEGIN:VTIMEZONE
TZID:Europe/Paris
BEGIN:DAYLIGHT
TZOFFSETFROM:+0100
TZOFFSETTO:+0200
TZNAME:CEST
DTSTART:20200329T010000
END:DAYLIGHT
BEGIN:STANDARD
TZOFFSETFROM:+0200
TZOFFSETTO:+0100
TZNAME:CET
DTSTART:20201025T010000
END:STANDARD
BEGIN:DAYLIGHT
TZOFFSETFROM:+0100
TZOFFSETTO:+0200
TZNAME:CEST
DTSTART:20210328T010000
END:DAYLIGHT
BEGIN:STANDARD
TZOFFSETFROM:+0200
TZOFFSETTO:+0100
TZNAME:CET
DTSTART:20211031T010000
END:STANDARD
BEGIN:DAYLIGHT
TZOFFSETFROM:+0100
TZOFFSETTO:+0200
TZNAME:CEST
DTSTART:20220327T010000
END:DAYLIGHT
BEGIN:STANDARD
TZOFFSETFROM:+0200
TZOFFSETTO:+0100
TZNAME:CET
DTSTART:20221030T010000
END:STANDARD
END:VTIMEZONE
BEGIN:VEVENT
DTSTART;TZID=Europe/Paris:20211223T193000
DTEND;TZID=Europe/Paris:20211223T220000
DTSTAMP:20260424T115925
CREATED:20201111T133745Z
LAST-MODIFIED:20211217T073906Z
UID:4595-1640287800-1640296800@paroissegennevilliers.fr
SUMMARY:Maraudes
DESCRIPTION:Les Maraudes reprennent le jeudi et le dimanche soir en septembre\n \n19h30 : départ de la voiture pour la maraude avec l’équipe de la paroisse\, depuis St Jean des Grésillons \n  \n\n\nUn chaleureux merci à tous ceux qui nous procurent des vêtements et des produits d’hygiène. Ne vous arrêtez pas ! \n  \n\n\n 
URL:https://paroissegennevilliers.fr/evenement/maraude-pendant-le-confinement/
LOCATION:Saint Jean des Grésillons\, 17\, rue du 19 mars 1962\, église St Jean des Grésillons 17\, rue du 19 mars 1962\, GENNEVILLIERS\, 92230\, France
CATEGORIES:maraudes
ATTACH;FMTTYPE=image/jpeg:https://paroissegennevilliers.fr/wp-content/uploads/2020/11/maraude.jpg
END:VEVENT
END:VCALENDAR