BEGIN:VCALENDAR
VERSION:2.0
PRODID:-//Paroisse catholique de Gennevilliers &amp; Asnières-Grésillons - ECPv6.15.20//NONSGML v1.0//EN
CALSCALE:GREGORIAN
METHOD:PUBLISH
X-ORIGINAL-URL:https://paroissegennevilliers.fr
X-WR-CALDESC:Évènements pour Paroisse catholique de Gennevilliers &amp; Asnières-Grésillons
REFRESH-INTERVAL;VALUE=DURATION:PT1H
X-Robots-Tag:noindex
X-PUBLISHED-TTL:PT1H
BEGIN:VTIMEZONE
TZID:Europe/Paris
BEGIN:DAYLIGHT
TZOFFSETFROM:+0100
TZOFFSETTO:+0200
TZNAME:CEST
DTSTART:20250330T010000
END:DAYLIGHT
BEGIN:STANDARD
TZOFFSETFROM:+0200
TZOFFSETTO:+0100
TZNAME:CET
DTSTART:20251026T010000
END:STANDARD
BEGIN:DAYLIGHT
TZOFFSETFROM:+0100
TZOFFSETTO:+0200
TZNAME:CEST
DTSTART:20260329T010000
END:DAYLIGHT
BEGIN:STANDARD
TZOFFSETFROM:+0200
TZOFFSETTO:+0100
TZNAME:CET
DTSTART:20261025T010000
END:STANDARD
BEGIN:DAYLIGHT
TZOFFSETFROM:+0100
TZOFFSETTO:+0200
TZNAME:CEST
DTSTART:20270328T010000
END:DAYLIGHT
BEGIN:STANDARD
TZOFFSETFROM:+0200
TZOFFSETTO:+0100
TZNAME:CET
DTSTART:20271031T010000
END:STANDARD
END:VTIMEZONE
BEGIN:VEVENT
DTSTART;TZID=Europe/Paris:20260421T170000
DTEND;TZID=Europe/Paris:20260421T183000
DTSTAMP:20260419T193640
CREATED:20250902T061702Z
LAST-MODIFIED:20260415T074152Z
UID:8256-1776790800-1776796200@paroissegennevilliers.fr
SUMMARY:Eglise NDA ouverte & ACCUEIL (17h-18h30)
DESCRIPTION:L’église ND des Agnettes est ouverte\, ainsi que l’Accueil paroissial\nles matins de 10h à 11h30 du lundi au samedi\, jeudi dès 8h15 \net les après-midis\, de 17h à 18h30 (lundi\, mardi et jeudi)\, de 17h à 19h30 (mercredi et vendredi) \n  \nEn allant ou en revenant de faire vos courses\, de vous aérer ou de courir\, du travail \narrêtez-vous quelques instants pour allumer un cierge\, prendre un temps de prière en silence\, demander une intention de messe pour un défunt ou remercier Dieu.\nLe mercredi\, vous pouvez aussi rencontrer un prêtre pour un conseil\, une question\, demander à recevoir le pardon de Dieu
URL:https://paroissegennevilliers.fr/evenement/eglise-nda-ouverte-3/
LOCATION:Notre-Dame des Agnettes\, 26\, rue Louis Calmel\, 26\, rue Louis Calmel\, Gennevilliers\, 92230\, France
ATTACH;FMTTYPE=image/jpeg:https://paroissegennevilliers.fr/wp-content/uploads/2021/07/ND-Agnettes.jpg
END:VEVENT
BEGIN:VEVENT
DTSTART;TZID=Europe/Paris:20260422T083000
DTEND;TZID=Europe/Paris:20260422T093000
DTSTAMP:20260419T193640
CREATED:20250915T065426Z
LAST-MODIFIED:20260415T114629Z
UID:13511-1776846600-1776850200@paroissegennevilliers.fr
SUMMARY:Eglise Sainte Marie Madeleine ouverte 8h30-9h30
DESCRIPTION:L’église Ste Marie-Madeleine est ouverte mardi\, vendredi et dimanche de 10h à 12h\nEn allant ou en revenant de faire vos courses au marché du Village\, de vous aérer\,  de courir ou du travail \narrêtez-vous quelques instants pour allumer un cierge\, prendre un temps de prière en silence
URL:https://paroissegennevilliers.fr/evenement/eglise-sainte-marie-madeleine-ouverte-8h30-12h-4/
LOCATION:Eglise Ste Marie-Madeleine\, Place Jean Grandel\, Place Jean Grandel\, Gennevilliers\, 92230\, France
CATEGORIES:Messe,Prière
ATTACH;FMTTYPE=image/jpeg:https://paroissegennevilliers.fr/wp-content/uploads/2020/11/Ste-Marie-Madeleine-fronton-clocher.jpeg
END:VEVENT
BEGIN:VEVENT
DTSTART;TZID=Europe/Paris:20260422T084000
DTEND;TZID=Europe/Paris:20260422T090000
DTSTAMP:20260419T193640
CREATED:20250618T100515Z
LAST-MODIFIED:20260415T114639Z
UID:13096-1776847200-1776848400@paroissegennevilliers.fr
SUMMARY:Laudes 8h40
DESCRIPTION:Prière de la prière de l’Église des laudes ou des vêpres AVANT la messe (chant\, psaumes\, Bible\, refrain\, cantique du Nouveau Testament\, prière de demande\, Notre Père\, prière finale).\n\n– Mardi à 8h40\, à Ste Marie-Madeleine : laudes;\n– Mercredi à 8h40\, à Ste Marie Madeleine : laudes\n– Jeudi à 8h40\, à Notre Dame des Agnettes : laudes.
URL:https://paroissegennevilliers.fr/evenement/laudes-8h40-2/
LOCATION:Eglise Ste Marie-Madeleine\, Place Jean Grandel\, Place Jean Grandel\, Gennevilliers\, 92230\, France
ATTACH;FMTTYPE=image/jpeg:https://paroissegennevilliers.fr/wp-content/uploads/2021/09/Laudes.jpg
END:VEVENT
BEGIN:VEVENT
DTSTART;TZID=Europe/Paris:20260422T090000
DTEND;TZID=Europe/Paris:20260422T093000
DTSTAMP:20260419T193640
CREATED:20260401T080242Z
LAST-MODIFIED:20260415T114703Z
UID:15106-1776848400-1776850200@paroissegennevilliers.fr
SUMMARY:Messe 9h
DESCRIPTION:Messe en semaine
URL:https://paroissegennevilliers.fr/evenement/messe-9h-3/
LOCATION:Eglise Ste Marie-Madeleine\, Place Jean Grandel\, Place Jean Grandel\, Gennevilliers\, 92230\, France
ATTACH;FMTTYPE=image/png:https://paroissegennevilliers.fr/wp-content/uploads/2020/09/messe.png
END:VEVENT
BEGIN:VEVENT
DTSTART;TZID=Europe/Paris:20260422T100000
DTEND;TZID=Europe/Paris:20260422T113000
DTSTAMP:20260419T193640
CREATED:20250830T113223Z
LAST-MODIFIED:20260415T123510Z
UID:13419-1776852000-1776857400@paroissegennevilliers.fr
SUMMARY:ND des Agnettes ouverte + Accueil paroissial (10h-11h30)
DESCRIPTION:L’église ND des Agnettes est ouverte\, ainsi que l’Accueil paroissial\nles matins de 10h à 11h30 du lundi au samedi\, jeudi dès 8h15 \net les après-midis\, de 17h à 18h30 (lundi\, mardi et jeudi)\, de 17h à 19h30 (mercredi et vendredi) \nEn allant ou en revenant de faire vos courses\, de vous aérer ou de courir\, du travail \narrêtez-vous quelques instants pour allumer un cierge\, prendre un temps de prière en silence.\n 
URL:https://paroissegennevilliers.fr/evenement/nd-des-agnettes-ouverte-10h-11h30-2/
LOCATION:Notre-Dame des Agnettes\, 26\, rue Louis Calmel\, 26\, rue Louis Calmel\, Gennevilliers\, 92230\, France
ATTACH;FMTTYPE=image/jpeg:https://paroissegennevilliers.fr/wp-content/uploads/2021/07/ND-Agnettes.jpg
END:VEVENT
BEGIN:VEVENT
DTSTART;TZID=Europe/Paris:20260425T200000
DTEND;TZID=Europe/Paris:20260425T220000
DTSTAMP:20260419T193640
CREATED:20260417T151729Z
LAST-MODIFIED:20260417T152050Z
UID:15222-1777147200-1777154400@paroissegennevilliers.fr
SUMMARY:Spectacle Pier-Giorgio Frassati (20h)
DESCRIPTION:Saint Pier Gorgio Frassati a été canonisé le 7 septembre 2025 par le Pape Léon XIV. \nUn spectacle écrit par la pastorale des jeunes du diocèse de Nanterre et les Baladins de l’Evangile se jouera à Notre Dame du Pérpétuel Secours (rue Albert 1° à Asnières) le samedi 25 avril 2026 à partir de 20h (durée 1h45) \nCette pièce met en écho la vie passionnée de Pier Giorgio Frassati et la Passion du Christ. \n  \nSi vous souhaitez être acteurs (une cinquantaine en tout)\, si vous désirez être spectateurs et même si vous pouvez être bénévole lors de la soirée. Inscrivez-vous ici ! \nLibre participation le soir de la représentation. \n  \nDécouvrir PG Frassati \na) en 27 min \n  \nb) en 52 min \n 
URL:https://paroissegennevilliers.fr/evenement/spectacle-pier-giorgio-frassati-20h/
LOCATION:Eglise Notre Dame du Perpétuel Secours\, 31\, rue Albert I°\, Asnières-sur-Seine\, 92600\, France
ATTACH;FMTTYPE=image/jpeg:https://paroissegennevilliers.fr/wp-content/uploads/2026/03/2026.04.25-PG-Frassati.jpg
END:VEVENT
BEGIN:VEVENT
DTSTART;TZID=Europe/Paris:20260428T200000
DTEND;TZID=Europe/Paris:20260428T220000
DTSTAMP:20260419T193640
CREATED:20260410T085852Z
LAST-MODIFIED:20260415T074259Z
UID:4235-1777406400-1777413600@paroissegennevilliers.fr
SUMMARY:Jeunes adultes (Étudiants et Jeunes Pros) 20h-22h
DESCRIPTION:Un dîner convivial et amical\,\n+ une vidéo sur une question importante\n+ une discussion si on veut parler\n+ une prière finale\n= un parcours pour découvrir et/ou approfondir notre Foi.\n\nQuel est le sens de la vie? Qui est Jésus? Pourquoi est-il mort? Et la foi en Dieu ? Comment et pourquoi prier? et le mal? Comment lire la Bible? Qui est l’Esprit de Dieu? Que faire du reste de ma vie? …\n\nAutant de thèmes pour des étudiants et des jeunes pros que nous aborderons autour d’un temps d’échange\, d’un diner et d’un temps de prière afin de creuser notre rapport à Dieu et voir comment notre Foi se manifeste dans notre vie de tous les jours.\n\n\nLes rencontres ont lieu le mardi de 20h à 22h à l’église Notre Dame des Agnettes\nFréquence : Tous les 15 jours (en dehors des vacances)\n\nNB à l’église Notre-Dame des Agnettes (26\, rue Louis Calmel) qui est plus centrale \nRencontre suivante : mardi 12 mai 2026\n \n\nRencontres précédentes : \n\n      \n \n \n \n \n \n  \n  \n  \n  \n  \n  \n\n\n\n\n  \n 
URL:https://paroissegennevilliers.fr/evenement/jeunes-adultes-autour-de-la-parole/
LOCATION:Notre-Dame des Agnettes\, 26\, rue Louis Calmel\, 26\, rue Louis Calmel\, Gennevilliers\, 92230\, France
ATTACH;FMTTYPE=image/jpeg:https://paroissegennevilliers.fr/wp-content/uploads/2026/04/2026.04.14-Bandeau-18-30-3.-relation-avec-Dieu.jpg
END:VEVENT
BEGIN:VEVENT
DTSTART;TZID=Europe/Paris:20260503T163000
DTEND;TZID=Europe/Paris:20260503T180000
DTSTAMP:20260419T193640
CREATED:20260211T104142Z
LAST-MODIFIED:20260211T104142Z
UID:14746-1777825800-1777831200@paroissegennevilliers.fr
SUMMARY:Parcours Alpha : Lire la Bible\, pourquoi et comment16h30-18h)
DESCRIPTION:Après la réunion de lancement\, de présentation et de découverte du Parcours Alpha sur le sens de la vie\, à l’église ND des Agnettes\, nous continuons ce dimanche avec la \nQuestion : Lire la bible\, pourquoi et comment? \nOuverte à tous\, baptisés ou non\, curieux et personnes en recherche \nSans engagement pour les réunions suivantes \nEn savoir + sur le Parcours Alpha \n 
URL:https://paroissegennevilliers.fr/evenement/parcours-alpha-lire-la-bible-pourquoi-et-comment16h30-18h/
LOCATION:Notre-Dame des Agnettes\, 26\, rue Louis Calmel\, 26\, rue Louis Calmel\, Gennevilliers\, 92230\, France
CATEGORIES:Formation,Prière
END:VEVENT
BEGIN:VEVENT
DTSTART;TZID=Europe/Paris:20260507T190000
DTEND;TZID=Europe/Paris:20260507T200000
DTSTAMP:20260419T193640
CREATED:20260125T115614Z
LAST-MODIFIED:20260410T063602Z
UID:6412-1778180400-1778184000@paroissegennevilliers.fr
SUMMARY:Adoration du Saint Sacrement à Ste Marie-Madeleine (19h-20h)
DESCRIPTION:Chaque premier jeudi du mois\, rassemblons nous pour un moment de prière et d’adoration du Saint Sacrement de 19h à 20h à l’église Sainte Marie Madeleine. \n  \n 
URL:https://paroissegennevilliers.fr/evenement/adoration-du-saint-sacrement-a-ste-marie-madeleine/
LOCATION:Eglise Ste Marie-Madeleine\, Place Jean Grandel\, Place Jean Grandel\, Gennevilliers\, 92230\, France
CATEGORIES:Prière,Saint Sacrement
END:VEVENT
BEGIN:VEVENT
DTSTART;TZID=Europe/Paris:20260517T163000
DTEND;TZID=Europe/Paris:20260517T180000
DTSTAMP:20260419T193640
CREATED:20260211T104233Z
LAST-MODIFIED:20260211T104233Z
UID:14747-1779035400-1779040800@paroissegennevilliers.fr
SUMMARY:Parcours Alpha : Dieu guérit-il aujourd'hui (16h30-18h)
DESCRIPTION:Après la réunion de lancement\, de présentation et de découverte du Parcours Alpha sur le sens de la vie\, à l’église ND des Agnettes\, nous continuons ce dimanche avec la \nQuestion : Dieu guérit-il aujourd’hui? \nOuverte à tous\, baptisés ou non\, curieux et personnes en recherche \nSans engagement pour les réunions suivantes \nEn savoir + sur le Parcours Alpha \n 
URL:https://paroissegennevilliers.fr/evenement/parcours-alpha-dieu-guerit-il-aujourdhui-16h30-18h/
LOCATION:Notre-Dame des Agnettes\, 26\, rue Louis Calmel\, 26\, rue Louis Calmel\, Gennevilliers\, 92230\, France
CATEGORIES:Formation,Prière
END:VEVENT
BEGIN:VEVENT
DTSTART;TZID=Europe/Paris:20260523T183000
DTEND;TZID=Europe/Paris:20260523T193000
DTSTAMP:20260419T193640
CREATED:20260308T082609Z
LAST-MODIFIED:20260318T122624Z
UID:5751-1779561000-1779564600@paroissegennevilliers.fr
SUMMARY:Messe anticipée de la PENTECÔTE
DESCRIPTION:« Tout à coup il vient au ciel un bruit comme celui d’un vent violent qui remplit toute la maison où ils étaient assis. Ils furent tous remplis du Saint-Esprit ». (Actes 2;2) \n \n– 2 autres messes le dimanche matin\n\n\n9h30  à l’église St Jean des Grésillons\n\n\n11h à l’église Ste Marie-Madeleine\n\n\n  \nPour préparer l’accueil du Saint-Esprit vous pouvez faire une neuvaine en priant tous les jours à partir du dimanche de l’Ascension la prière suivante: \n\nViens\, Esprit Saint!\nTraduction du Veni Sancte Spiritus \nViens\, Esprit-Saint\, en nos coeurs\,\net envoie du haut du ciel\nun rayon de ta lumière. \nViens en nous\, père des pauvres.\nViens\, dispensateur des dons.\nViens\, lumière en nos coeurs. \nConsolateur souverain\,\nhôte très doux de nos âmes\,\nadoucissante fraîcheur. \nDans le labeur\, le repos ;\ndans la fièvre\, la fraîcheur ;\ndans les pleurs\, le réconfort. \nO lumière bienheureuse\,\nviens remplir jusqu’à l’intime\nle coeur de tous tes fidèles. \nSans ta puissance divine\,\nil n’est rien en aucun homme\,\nrien qui ne soit perverti. \nLave ce qui est souillé\,\nbaigne ce qui est aride\,\nguéris ce qui est blessé. \nAssouplis ce qui est raide\,\nréchauffe ce qui est froid\,\nrends droit ce qui est faussé. \nA tous ceux qui ont la foi\net qui en toi se confient\,\ndonne tes sept dons sacrés. \nDonne mérite et vertu\ndonne le salut final\ndonne la joie éternelle. \nAmen.
URL:https://paroissegennevilliers.fr/evenement/messe-de-pentecote-3/
LOCATION:Notre-Dame des Agnettes\, 26\, rue Louis Calmel\, 26\, rue Louis Calmel\, Gennevilliers\, 92230\, France
END:VEVENT
BEGIN:VEVENT
DTSTART;TZID=Europe/Paris:20260524T093000
DTEND;TZID=Europe/Paris:20260524T103000
DTSTAMP:20260419T193640
CREATED:20240507T072329Z
LAST-MODIFIED:20260318T130801Z
UID:5746-1779615000-1779618600@paroissegennevilliers.fr
SUMMARY:Messe de la PENTECÔTE à 9h30
DESCRIPTION:« Tout à coup il vient au ciel un bruit comme celui d’un vent violent qui remplit toute la maison où ils étaient assis. Ils furent tous remplis du Saint-Esprit ». (Actes 2\,2) \n \n– 2 autres messes\n\n\nSamedi à 18h30 à ND des Agnettes\n\n\ndimanche à 11h à l’église Ste Marie-Madeleine\n\n\n  \nPour préparer l’accueil du Saint-Esprit vous pouvez faire une neuvaine en priant tous les jours à partir du dimanche de l’Ascension la prière suivante: \n\nViens\, Esprit Saint!\nTraduction du Veni Sancte Spiritus \nViens\, Esprit-Saint\, en nos coeurs\,\net envoie du haut du ciel\nun rayon de ta lumière. \nViens en nous\, père des pauvres.\nViens\, dispensateur des dons.\nViens\, lumière en nos coeurs. \nConsolateur souverain\,\nhôte très doux de nos âmes\,\nadoucissante fraîcheur. \nDans le labeur\, le repos ;\ndans la fièvre\, la fraîcheur ;\ndans les pleurs\, le réconfort. \nO lumière bienheureuse\,\nviens remplir jusqu’à l’intime\nle coeur de tous tes fidèles. \nSans ta puissance divine\,\nil n’est rien en aucun homme\,\nrien qui ne soit perverti. \nLave ce qui est souillé\,\nbaigne ce qui est aride\,\nguéris ce qui est blessé. \nAssouplis ce qui est raide\,\nréchauffe ce qui est froid\,\nrends droit ce qui est faussé. \nA tous ceux qui ont la foi\net qui en toi se confient\,\ndonne tes sept dons sacrés. \nDonne mérite et vertu\ndonne le salut final\ndonne la joie éternelle. \nAmen
URL:https://paroissegennevilliers.fr/evenement/messe-de-pentecote/
LOCATION:Saint Jean des Grésillons\, 17\, rue du 19 mars 1962\, église St Jean des Grésillons 17\, rue du 19 mars 1962\, GENNEVILLIERS\, 92230\, France
CATEGORIES:Messe
END:VEVENT
BEGIN:VEVENT
DTSTART;TZID=Europe/Paris:20260524T110000
DTEND;TZID=Europe/Paris:20260524T120000
DTSTAMP:20260419T193640
CREATED:20240507T072520Z
LAST-MODIFIED:20260318T122710Z
UID:5748-1779620400-1779624000@paroissegennevilliers.fr
SUMMARY:Messe de PENTECÔTE à 11h
DESCRIPTION:« Tout à coup il vient au ciel un bruit comme celui d’un vent violent qui remplit toute la maison où ils étaient assis. Ils furent tous remplis du Saint-Esprit ». (Actes 2\,2) \n \n– 2 autres messes\n\n\nSamedi à 18h30 à ND des Agnettes\n\n\ndimanche à 9h30 à l’église St Jean des Grésillons\n\n\n\n  \nPour préparer l’accueil du Saint-Esprit vous pouvez faire une neuvaine en priant tous les jours à partir du dimanche de l’Ascension la prière suivante: \n\nViens\, Esprit Saint!\nTraduction du Veni Sancte Spiritus \nViens\, Esprit-Saint\, en nos coeurs\,\net envoie du haut du ciel\nun rayon de ta lumière. \nViens en nous\, père des pauvres.\nViens\, dispensateur des dons.\nViens\, lumière en nos coeurs. \nConsolateur souverain\,\nhôte très doux de nos âmes\,\nadoucissante fraîcheur. \nDans le labeur\, le repos ;\ndans la fièvre\, la fraîcheur ;\ndans les pleurs\, le réconfort. \nO lumière bienheureuse\,\nviens remplir jusqu’à l’intime\nle coeur de tous tes fidèles. \nSans ta puissance divine\,\nil n’est rien en aucun homme\,\nrien qui ne soit perverti. \nLave ce qui est souillé\,\nbaigne ce qui est aride\,\nguéris ce qui est blessé. \nAssouplis ce qui est raide\,\nréchauffe ce qui est froid\,\nrends droit ce qui est faussé. \nA tous ceux qui ont la foi\net qui en toi se confient\,\ndonne tes sept dons sacrés. \nDonne mérite et vertu\ndonne le salut final\ndonne la joie éternelle. \nAmen
URL:https://paroissegennevilliers.fr/evenement/messe-de-pentecote-2/
LOCATION:Eglise Ste Marie-Madeleine\, Place Jean Grandel\, Place Jean Grandel\, Gennevilliers\, 92230\, France
CATEGORIES:Messe
END:VEVENT
BEGIN:VEVENT
DTSTART;TZID=Europe/Paris:20260531T163000
DTEND;TZID=Europe/Paris:20260531T180000
DTSTAMP:20260419T193640
CREATED:20260211T104315Z
LAST-MODIFIED:20260211T104315Z
UID:14748-1780245000-1780250400@paroissegennevilliers.fr
SUMMARY:Parcours Alpha : en parler aux autres (16h30-18h)
DESCRIPTION:Après la réunion de lancement\, de présentation et de découverte du Parcours Alpha sur le sens de la vie\, à l’église ND des Agnettes\, nous continuons ce dimanche avec la \nQuestion : En parler aux autres? \nOuverte à tous\, baptisés ou non\, curieux et personnes en recherche \nSans engagement pour les réunions suivantes \nEn savoir + sur le Parcours Alpha \n 
URL:https://paroissegennevilliers.fr/evenement/parcours-alpha-en-parler-aux-autres-16h30-18h/
LOCATION:Notre-Dame des Agnettes\, 26\, rue Louis Calmel\, 26\, rue Louis Calmel\, Gennevilliers\, 92230\, France
CATEGORIES:Formation,Prière
END:VEVENT
BEGIN:VEVENT
DTSTART;TZID=Europe/Paris:20260614T163000
DTEND;TZID=Europe/Paris:20260614T180000
DTSTAMP:20260419T193640
CREATED:20260211T102536Z
LAST-MODIFIED:20260211T103524Z
UID:14727-1781454600-1781460000@paroissegennevilliers.fr
SUMMARY:Parcours Alpha En parler aux autres : Comment tirer le meilleur de ma vie? (16h30-18h)
DESCRIPTION:Après la réunion de lancement\, de présentation et de découverte du Parcours Alpha sur le sens de la vie\, à l’église ND des Agnettes\, nous continuons ce dimanche avec la \nQuestion : Comment tirer le meilleur de ma vie? \nOuverte à tous\, baptisés ou non\, curieux et personnes en recherche \nSans engagement pour les réunions suivantes \nEn savoir + sur le Parcours Alpha \n 
URL:https://paroissegennevilliers.fr/evenement/parcours-alpha-en-parler-aux-autres-comment-tirer-le-meilleur-de-ma-vie-16h30-18h/
LOCATION:Notre-Dame des Agnettes\, 26\, rue Louis Calmel\, 26\, rue Louis Calmel\, Gennevilliers\, 92230\, France
CATEGORIES:Formation,Prière
END:VEVENT
END:VCALENDAR