BEGIN:VCALENDAR
VERSION:2.0
PRODID:-//Paroisse catholique de Gennevilliers &amp; Asnières-Grésillons - ECPv6.15.20//NONSGML v1.0//EN
CALSCALE:GREGORIAN
METHOD:PUBLISH
X-WR-CALNAME:Paroisse catholique de Gennevilliers &amp; Asnières-Grésillons
X-ORIGINAL-URL:https://paroissegennevilliers.fr
X-WR-CALDESC:Évènements pour Paroisse catholique de Gennevilliers &amp; Asnières-Grésillons
REFRESH-INTERVAL;VALUE=DURATION:PT1H
X-Robots-Tag:noindex
X-PUBLISHED-TTL:PT1H
BEGIN:VTIMEZONE
TZID:Europe/Paris
BEGIN:DAYLIGHT
TZOFFSETFROM:+0100
TZOFFSETTO:+0200
TZNAME:CEST
DTSTART:20220327T010000
END:DAYLIGHT
BEGIN:STANDARD
TZOFFSETFROM:+0200
TZOFFSETTO:+0100
TZNAME:CET
DTSTART:20221030T010000
END:STANDARD
BEGIN:DAYLIGHT
TZOFFSETFROM:+0100
TZOFFSETTO:+0200
TZNAME:CEST
DTSTART:20230326T010000
END:DAYLIGHT
BEGIN:STANDARD
TZOFFSETFROM:+0200
TZOFFSETTO:+0100
TZNAME:CET
DTSTART:20231029T010000
END:STANDARD
BEGIN:DAYLIGHT
TZOFFSETFROM:+0100
TZOFFSETTO:+0200
TZNAME:CEST
DTSTART:20240331T010000
END:DAYLIGHT
BEGIN:STANDARD
TZOFFSETFROM:+0200
TZOFFSETTO:+0100
TZNAME:CET
DTSTART:20241027T010000
END:STANDARD
END:VTIMEZONE
BEGIN:VEVENT
DTSTART;TZID=Europe/Paris:20231203T150000
DTEND;TZID=Europe/Paris:20231203T170000
DTSTAMP:20260424T180853
CREATED:20221125T104519Z
LAST-MODIFIED:20231129T083146Z
UID:8460-1701615600-1701622800@paroissegennevilliers.fr
SUMMARY:Atelier Crèches de l'Avent et crèche de Noël
DESCRIPTION:Un après-midi autour de la confection de couronnes de l’Avent . Chacun peut apporter sa pièce à l’édifice et s’exprimer. Cette activité unit petits et grands dans la joie de la préparation de Noël. \n  \nAtelier Couronne de l’Avent (3.12)
URL:https://paroissegennevilliers.fr/evenement/atelier-creches-de-lavent-et-creche-de-noel/
LOCATION:Saint Jean des Grésillons\, 17\, rue du 19 mars 1962\, église St Jean des Grésillons 17\, rue du 19 mars 1962\, GENNEVILLIERS\, 92230\, France
ATTACH;FMTTYPE=image/jpeg:https://paroissegennevilliers.fr/wp-content/uploads/2021/12/Couronne-de-lAvent.jpg
END:VEVENT
BEGIN:VEVENT
DTSTART;TZID=Europe/Paris:20231208T200000
DTEND;TZID=Europe/Paris:20231208T210000
DTSTAMP:20260424T180853
CREATED:20231129T085147Z
LAST-MODIFIED:20231129T085147Z
UID:9995-1702065600-1702069200@paroissegennevilliers.fr
SUMMARY:Le Magnificat\, Marie une femme de foi
DESCRIPTION:Découvrons ensemble la magnifique prière du Magnificat suivie d’une nuit de prière.
URL:https://paroissegennevilliers.fr/evenement/le-magnificat-marie-une-femme-de-foi/
LOCATION:Notre-Dame des Agnettes\, 26\, rue Louis Calmel\, 26\, rue Louis Calmel\, Gennevilliers\, 92230\, France
ATTACH;FMTTYPE=image/jpeg:https://paroissegennevilliers.fr/wp-content/uploads/2023/11/Magnificat-Vierge-Marie.jpg
END:VEVENT
BEGIN:VEVENT
DTSTART;TZID=Europe/Paris:20231208T210000
DTEND;TZID=Europe/Paris:20231209T080000
DTSTAMP:20260424T180853
CREATED:20220309T111112Z
LAST-MODIFIED:20231129T083511Z
UID:7361-1702069200-1702108800@paroissegennevilliers.fr
SUMMARY:Nuit d'adoration à ND des Agnettes
DESCRIPTION:Nuit de relai de prière de 21h à 8h à ND des Agnettes. \nInscription sur le tableau à l’entrée de l’église. \nLe parking restera ouvert toute la nuit.
URL:https://paroissegennevilliers.fr/evenement/nuit-dadoration-a-nd-des-agnettes-2/
LOCATION:Notre-Dame des Agnettes\, 26\, rue Louis Calmel\, 26\, rue Louis Calmel\, Gennevilliers\, 92230\, France
CATEGORIES:Nuit,Prière
ATTACH;FMTTYPE=image/jpeg:https://paroissegennevilliers.fr/wp-content/uploads/2021/09/adoration.jpg
END:VEVENT
BEGIN:VEVENT
DTSTART;TZID=Europe/Paris:20231215T193000
DTEND;TZID=Europe/Paris:20231215T203000
DTSTAMP:20260424T180853
CREATED:20231129T085631Z
LAST-MODIFIED:20231129T085652Z
UID:9999-1702668600-1702672200@paroissegennevilliers.fr
SUMMARY:Le cantique de Zacharie
DESCRIPTION:Découvrons ensemble la puissante prière du Benedictus\, qu’on prie aux Laudes.
URL:https://paroissegennevilliers.fr/evenement/le-cantique-de-zacharie/
LOCATION:Notre-Dame des Agnettes\, 26\, rue Louis Calmel\, 26\, rue Louis Calmel\, Gennevilliers\, 92230\, France
ATTACH;FMTTYPE=image/jpeg:https://paroissegennevilliers.fr/wp-content/uploads/2023/11/cantique-Zacharie.jpg
END:VEVENT
BEGIN:VEVENT
DTSTART;TZID=Europe/Paris:20231230T183000
DTEND;TZID=Europe/Paris:20231230T190000
DTSTAMP:20260424T180853
CREATED:20231213T090617Z
LAST-MODIFIED:20231230T153205Z
UID:10063-1703961000-1703962800@paroissegennevilliers.fr
SUMMARY:MESSE de la Sainte Famille à 18h30
DESCRIPTION:Messe de la Sainte famille
URL:https://paroissegennevilliers.fr/evenement/messe-de-la-sainte-famille-2/
ATTACH;FMTTYPE=image/jpeg:https://paroissegennevilliers.fr/wp-content/uploads/2023/12/istockphoto-481656858-612x612-1.jpg
END:VEVENT
BEGIN:VEVENT
DTSTART;TZID=Europe/Paris:20231231T093000
DTEND;TZID=Europe/Paris:20231231T103000
DTSTAMP:20260424T180853
CREATED:20201127T090227Z
LAST-MODIFIED:20231230T153327Z
UID:4669-1704015000-1704018600@paroissegennevilliers.fr
SUMMARY:MESSE de la Sainte Famille à 9h30
DESCRIPTION:Messe de la Sainte famille
URL:https://paroissegennevilliers.fr/evenement/messe-3/
LOCATION:Saint Jean des Grésillons\, 17\, rue du 19 mars 1962\, église St Jean des Grésillons 17\, rue du 19 mars 1962\, GENNEVILLIERS\, 92230\, France
CATEGORIES:Messe
ATTACH;FMTTYPE=image/jpeg:https://paroissegennevilliers.fr/wp-content/uploads/2020/11/Sainte-famille-1.jpg
END:VEVENT
BEGIN:VEVENT
DTSTART;TZID=Europe/Paris:20231231T110000
DTEND;TZID=Europe/Paris:20231231T120000
DTSTAMP:20260424T180853
CREATED:20211208T083322Z
LAST-MODIFIED:20231230T153357Z
UID:6961-1704020400-1704024000@paroissegennevilliers.fr
SUMMARY:Messe de la Sainte Famille à 11h
DESCRIPTION:Messe de la Sainte famille
URL:https://paroissegennevilliers.fr/evenement/messe-de-la-sainte-famille/
LOCATION:Eglise Ste Marie-Madeleine\, Place Jean Grandel\, Place Jean Grandel\, Gennevilliers\, 92230\, France
ATTACH;FMTTYPE=image/jpeg:https://paroissegennevilliers.fr/wp-content/uploads/2020/11/Sainte-famille-1.jpg
END:VEVENT
END:VCALENDAR