BEGIN:VCALENDAR
VERSION:2.0
PRODID:-//Paroisse catholique de Gennevilliers &amp; Asnières-Grésillons - ECPv6.15.20//NONSGML v1.0//EN
CALSCALE:GREGORIAN
METHOD:PUBLISH
X-ORIGINAL-URL:https://paroissegennevilliers.fr
X-WR-CALDESC:Évènements pour Paroisse catholique de Gennevilliers &amp; Asnières-Grésillons
REFRESH-INTERVAL;VALUE=DURATION:PT1H
X-Robots-Tag:noindex
X-PUBLISHED-TTL:PT1H
BEGIN:VTIMEZONE
TZID:Europe/Paris
BEGIN:DAYLIGHT
TZOFFSETFROM:+0100
TZOFFSETTO:+0200
TZNAME:CEST
DTSTART:20240331T010000
END:DAYLIGHT
BEGIN:STANDARD
TZOFFSETFROM:+0200
TZOFFSETTO:+0100
TZNAME:CET
DTSTART:20241027T010000
END:STANDARD
BEGIN:DAYLIGHT
TZOFFSETFROM:+0100
TZOFFSETTO:+0200
TZNAME:CEST
DTSTART:20250330T010000
END:DAYLIGHT
BEGIN:STANDARD
TZOFFSETFROM:+0200
TZOFFSETTO:+0100
TZNAME:CET
DTSTART:20251026T010000
END:STANDARD
BEGIN:DAYLIGHT
TZOFFSETFROM:+0100
TZOFFSETTO:+0200
TZNAME:CEST
DTSTART:20260329T010000
END:DAYLIGHT
BEGIN:STANDARD
TZOFFSETFROM:+0200
TZOFFSETTO:+0100
TZNAME:CET
DTSTART:20261025T010000
END:STANDARD
BEGIN:DAYLIGHT
TZOFFSETFROM:+0100
TZOFFSETTO:+0200
TZNAME:CEST
DTSTART:20270328T010000
END:DAYLIGHT
BEGIN:STANDARD
TZOFFSETFROM:+0200
TZOFFSETTO:+0100
TZNAME:CET
DTSTART:20271031T010000
END:STANDARD
END:VTIMEZONE
BEGIN:VEVENT
DTSTART;TZID=Europe/Paris:20251207T133000
DTEND;TZID=Europe/Paris:20251207T160000
DTSTAMP:20260423T104919
CREATED:20251204T081503Z
LAST-MODIFIED:20251206T230814Z
UID:14234-1765114200-1765123200@paroissegennevilliers.fr
SUMMARY:Vers le Projet pastoral : Réunion des responsables 13h30-16h
DESCRIPTION:
URL:https://paroissegennevilliers.fr/evenement/reunion-des-responsables/
LOCATION:Saint Jean des Grésillons\, 17\, rue du 19 mars 1962\, église St Jean des Grésillons 17\, rue du 19 mars 1962\, GENNEVILLIERS\, 92230\, France
ATTACH;FMTTYPE=image/jpeg:https://paroissegennevilliers.fr/wp-content/uploads/2025/12/Reflexion-personnelle.jpg
END:VEVENT
BEGIN:VEVENT
DTSTART;TZID=Europe/Paris:20251213T190000
DTEND;TZID=Europe/Paris:20251213T203000
DTSTAMP:20260423T104919
CREATED:20251205T171724Z
LAST-MODIFIED:20251212T001826Z
UID:11637-1765652400-1765657800@paroissegennevilliers.fr
SUMMARY:Concert à 19h
DESCRIPTION:Chants de Noël de la chorale Amitié : (de Gennevilliers)\n– Noël Nouvelet\n– Noël de Paix\n– Mary had a Baby\n– La Tendresse\n– Noël Jazz\n– Ah Plaignez tant\n– Les Anges de nos campagnes\n– Dona Nobis Pacem\n– L’Eglise de Harlem\n– Doucement s’endort la terre\n– Douce Nuit\n\n\nEt la liste de la Chorale ReBel-Canto : (de Clichy)\n– Oh freedom (negro spiritual)\n– Steal away (negro spiritual)\n– die Gedanken sind frei (chant populaire allemand)\n– Nkosi Sikele I Afrika (Hymne sud-africain)\n– En Belen tocan a fuego (chant traditionnel sud-américain)\n– Dona Nobis Pacem (canon)\n– Arirang (chant populaire coréen)…. peut-être.
URL:https://paroissegennevilliers.fr/evenement/concert-16h-17h/
LOCATION:Eglise Ste Marie-Madeleine\, Place Jean Grandel\, Place Jean Grandel\, Gennevilliers\, 92230\, France
ATTACH;FMTTYPE=image/jpeg:https://paroissegennevilliers.fr/wp-content/uploads/2024/10/2025.12.13-Chants-de-Noel.jpeg
END:VEVENT
BEGIN:VEVENT
DTSTART;TZID=Europe/Paris:20251219T193000
DTEND;TZID=Europe/Paris:20251219T210000
DTSTAMP:20260423T104919
CREATED:20251203T072725Z
LAST-MODIFIED:20251216T200447Z
UID:14228-1766172600-1766178000@paroissegennevilliers.fr
SUMMARY:3° Vendredi de l'Avent 19.12
DESCRIPTION:Les vendredis de l’AVENT  (5\, 12 et 19 décembre) \n19h30 à NDA : Bol de riz et apporter 1 fruit \n20h-21h à NDA : Nous prierons et partagerons nos découvertes et difficultés de compréhension des chapitres de l’Evangile selon St Matthieu lus dans la semaine dans le cadre de la Randonnée biblique commencée le 1° décembre. \nRappel : 19h messe à ND des Agnettes
URL:https://paroissegennevilliers.fr/evenement/vendredi-de-lavent-5-12/
LOCATION:Notre-Dame des Agnettes\, 26\, rue Louis Calmel\, 26\, rue Louis Calmel\, Gennevilliers\, 92230\, France
ATTACH;FMTTYPE=image/jpeg:https://paroissegennevilliers.fr/wp-content/uploads/2025/12/2025.12.12-Bandeau-presentation-2°-vendredi.jpg
END:VEVENT
BEGIN:VEVENT
DTSTART;TZID=Europe/Paris:20251221T160000
DTEND;TZID=Europe/Paris:20251221T173000
DTSTAMP:20260423T104919
CREATED:20251129T131648Z
LAST-MODIFIED:20251216T201018Z
UID:8379-1766332800-1766338200@paroissegennevilliers.fr
SUMMARY:Projection de The Chosen S4 Ep8 (16h-17h30)
DESCRIPTION:Projection du 8° des 8 épisodes de la Saison 4 de la série « The Chosen » : « humble » \nDimanche 21.12 à 16h à ND des Agnettes (26\, rue Louis Calmel)\nC’est une belle occasion à saisir pour faire connaître Jésus à des personnes que nous connaissons\, chrétiens ou non\, curieux de Jésus comme Zachée. \nLa projection sera suivie d’un goûter et d’une discussion en petits groupes \nhttps://paroissegennevilliers.fr/projection-de-the-chosen-s3/ \nEn savoir +
URL:https://paroissegennevilliers.fr/evenement/projection-de-the-chose-s1-ep/
LOCATION:Notre-Dame des Agnettes\, 26\, rue Louis Calmel\, 26\, rue Louis Calmel\, Gennevilliers\, 92230\, France
CATEGORIES:Formation,Prière
ATTACH;FMTTYPE=image/jpeg:https://paroissegennevilliers.fr/wp-content/uploads/2025/12/2025.12.21-Bandeau-Chosen-S4-E8-humble.jpg
END:VEVENT
BEGIN:VEVENT
DTSTART;TZID=Europe/Paris:20251224T190000
DTEND;TZID=Europe/Paris:20251224T203000
DTSTAMP:20260423T104919
CREATED:20241216T075850Z
LAST-MODIFIED:20251223T100448Z
UID:4892-1766602800-1766608200@paroissegennevilliers.fr
SUMMARY:MESSE de la Nuit de NOËL 19h
DESCRIPTION:Partageons ensemble la joie de Noël.\n« Le peuple qui marchait dans les ténèbres a vu se lever une grande lumière »  (Isaïe 9.1)\n \nAdoration des Bergers de Gerrit Van Honthorst 1622 \nLes  autres messes de Noël\nCélébrons la Nuit de Noël le 24.12 messe précédée d’une veillée\nA Sainte Marie Madeleine **           veillée de Noël puis messe à 19h \nA Saint Jean des Grésillons   ***      veillée de Noël puis messe à 19h \nA Notre Dame des Agnettes *            veillée de Noël puis messe à 21h30 \n  \nCélébrons Noël le 25.12\nA Saint Jean des Grésillons  ***          à 9h30 – 10h30 \nA Sainte Marie Madeleine   **           à 11h – 12h \n  \n* 26\, rue Louis Calmel  – 92230 Gennevilliers \n** Place Jean Grandel – 92230 Gennevilliers \n*** 17 rue du 19 mars 1962 – 92230 Gennevilliers
URL:https://paroissegennevilliers.fr/evenement/messe-de-la-nuit-de-noel-3/
LOCATION:Eglise Ste Marie-Madeleine\, Place Jean Grandel\, Place Jean Grandel\, Gennevilliers\, 92230\, France
CATEGORIES:Messe
ATTACH;FMTTYPE=image/jpeg:https://paroissegennevilliers.fr/wp-content/uploads/2025/12/2025.12.25-Bandeau-Horaires-Veillees-et-Messes-Noel-2025.jpg
END:VEVENT
BEGIN:VEVENT
DTSTART;TZID=Europe/Paris:20251224T190000
DTEND;TZID=Europe/Paris:20251224T203000
DTSTAMP:20260423T104919
CREATED:20241216T083034Z
LAST-MODIFIED:20251223T103328Z
UID:4902-1766602800-1766608200@paroissegennevilliers.fr
SUMMARY:MESSE de la Nuit de Noël 19h
DESCRIPTION:Partageons ensemble la joie de Noël.\n« Le peuple qui marchait dans les ténèbres a vu se lever une grande lumière »  (Isaïe 9\,1)\n \nAdoration des Bergers de Gerrit Van Honthorst 1622 \n  \nLes  autres messes de Noël\nCélébrons la Nuit de Noël le 24.12 messe précédée d’une veillée\nA Sainte Marie Madeleine **           veillée de Noël puis messe à 19h \nA Saint Jean des Grésillons   ***      veillée de Noël puis messe à 19h \nA Notre Dame des Agnettes *            veillée de Noël puis messe à 21h30 \n  \nCélébrons Noël le 25.12\nA Saint Jean des Grésillons  ***          à 9h30 – 10h30 \nA Sainte Marie Madeleine   **           à 11h – 12h \n  \n* 26\, rue Louis Calmel  – 92230 Gennevilliers \n** Place Jean Grandel – 92230 Gennevilliers \n*** 17 rue du 19 mars 1962 – 92230 Gennevilliers
URL:https://paroissegennevilliers.fr/evenement/messe-de-la-nuit-de-noel-4/
LOCATION:Saint Jean des Grésillons\, 17\, rue du 19 mars 1962\, église St Jean des Grésillons 17\, rue du 19 mars 1962\, GENNEVILLIERS\, 92230\, France
CATEGORIES:Messe
ATTACH;FMTTYPE=image/jpeg:https://paroissegennevilliers.fr/wp-content/uploads/2025/12/2025.12.25-Bandeau-Horaires-Veillees-et-Messes-Noel-2025.jpg
END:VEVENT
BEGIN:VEVENT
DTSTART;TZID=Europe/Paris:20251224T213000
DTEND;TZID=Europe/Paris:20251224T230000
DTSTAMP:20260423T104919
CREATED:20251114T080014Z
LAST-MODIFIED:20251223T095903Z
UID:8545-1766611800-1766617200@paroissegennevilliers.fr
SUMMARY:Messe de la Nuit de Noël 21h30
DESCRIPTION:Partageons ensemble la joie de Noël.\n« Le peuple qui marchait dans les ténèbres a vu se lever une grande lumière »  (Isaïe 9.1)\n \nAdoration des Bergers de Gerrit Van Honthorst 1622 \n  \nLes  autres messes de Noël\nCélébrons la Nuit de Noël le 24.12 messe précédée d’une veillée\nA Sainte Marie Madeleine **           veillée de Noël puis messe à 19h \nA Saint Jean des Grésillons   ***      veillée de Noël puis messe à 19h \nA Notre Dame des Agnettes *            veillée de Noël puis messe à 21h30 \n  \nCélébrons Noël le 25.12\nA Saint Jean des Grésillons  ***          à 9h30 – 10h30 \nA Sainte Marie Madeleine   **           à 11h – 12h \n  \n* 26\, rue Louis Calmel  – 92230 Gennevilliers \n** Place Jean Grandel – 92230 Gennevilliers \n*** 17 rue du 19 mars 1962 – 92230 Gennevilliers
URL:https://paroissegennevilliers.fr/evenement/messe-de-la-nuit-de-noel/
LOCATION:Notre-Dame des Agnettes\, 26\, rue Louis Calmel\, 26\, rue Louis Calmel\, Gennevilliers\, 92230\, France
CATEGORIES:Messe,Nuit
ATTACH;FMTTYPE=image/jpeg:https://paroissegennevilliers.fr/wp-content/uploads/2025/12/2025.12.25-Bandeau-Horaires-Veillees-et-Messes-Noel-2025.jpg
END:VEVENT
BEGIN:VEVENT
DTSTART;TZID=Europe/Paris:20251225T093000
DTEND;TZID=Europe/Paris:20251225T103000
DTSTAMP:20260423T104919
CREATED:20241216T083156Z
LAST-MODIFIED:20251223T100353Z
UID:4904-1766655000-1766658600@paroissegennevilliers.fr
SUMMARY:MESSE du Jour de Noël 9h30
DESCRIPTION:Partageons ensemble la joie de Noël.\n« Le peuple qui marchait dans les ténèbres a vu se lever une grande lumière »  (Isaïe 9.1)\n \nAdoration des Bergers de Gerrit Van Honthorst 1622 \n  \nLes  autres messes de Noël\nCélébrons la Nuit de Noël le 24.12 messe précédée d’une veillée\nA Sainte Marie Madeleine **           veillée de Noël puis messe à 19h \nA Saint Jean des Grésillons   ***      veillée de Noël puis messe à 19h \nA Notre Dame des Agnettes *            veillée de Noël puis messe à 21h30 \n  \nCélébrons Noël le 25.12\nA Saint Jean des Grésillons  ***          à 9h30 – 10h30 \nA Sainte Marie Madeleine   **           à 11h – 12h \n  \n* 26\, rue Louis Calmel  – 92230 Gennevilliers \n** Place Jean Grandel – 92230 Gennevilliers \n*** 17 rue du 19 mars 1962 – 92230 Gennevilliers
URL:https://paroissegennevilliers.fr/evenement/messe-de-la-nuit-de-noel-5/
LOCATION:Saint Jean des Grésillons\, 17\, rue du 19 mars 1962\, église St Jean des Grésillons 17\, rue du 19 mars 1962\, GENNEVILLIERS\, 92230\, France
CATEGORIES:Messe
ATTACH;FMTTYPE=image/jpeg:https://paroissegennevilliers.fr/wp-content/uploads/2025/12/2025.12.25-Bandeau-Horaires-Veillees-et-Messes-Noel-2025.jpg
END:VEVENT
BEGIN:VEVENT
DTSTART;TZID=Europe/Paris:20251225T110000
DTEND;TZID=Europe/Paris:20251225T120000
DTSTAMP:20260423T104919
CREATED:20241216T075729Z
LAST-MODIFIED:20251223T103517Z
UID:4890-1766660400-1766664000@paroissegennevilliers.fr
SUMMARY:MESSE du jour de NOËL 11h
DESCRIPTION:Partageons ensemble la joie de Noël.\n« Le peuple qui marchait dans les ténèbres a vu se lever une grande lumière »  (Isaïe 9.1)\n \nAdoration des Bergers de Gerrit Van Honthorst 1622 \n  \nLes  autres messes de Noël\nCélébrons la Nuit de Noël le 24.12 messe précédée d’une veillée\nA Sainte Marie Madeleine **           veillée de Noël puis messe à 19h \nA Saint Jean des Grésillons   ***      veillée de Noël puis messe à 19h \nA Notre Dame des Agnettes *            veillée de Noël puis messe à 21h30 \nCélébrons Noël le 25.12\nA Saint Jean des Grésillons  ***          à 9h30 – 10h30 \nA Sainte Marie Madeleine   **           à 11h – 12h \n  \n* 26\, rue Louis Calmel  – 92230 Gennevilliers \n** Place Jean Grandel – 92230 Gennevilliers \n*** 17 rue du 19 mars 1962 – 92230 Gennevilliers
URL:https://paroissegennevilliers.fr/evenement/messe-de-la-nuit-de-noel-2/
LOCATION:Eglise Ste Marie-Madeleine\, Place Jean Grandel\, Place Jean Grandel\, Gennevilliers\, 92230\, France
CATEGORIES:Messe
ATTACH;FMTTYPE=image/jpeg:https://paroissegennevilliers.fr/wp-content/uploads/2025/12/2025.12.25-Bandeau-Horaires-Veillees-et-Messes-Noel-2025.jpg
END:VEVENT
BEGIN:VEVENT
DTSTART;TZID=Europe/Paris:20251225T123000
DTEND;TZID=Europe/Paris:20251225T160000
DTSTAMP:20260423T104919
CREATED:20241214T181044Z
LAST-MODIFIED:20251225T091929Z
UID:12016-1766665800-1766678400@paroissegennevilliers.fr
SUMMARY:Déjeuner de Noël (12h30-16h)
DESCRIPTION:12h30 Déjeuner de Noël à l’église St Jean\, ouvert à tous \n  \nAvec ou sans enfants\, seul\, en famille\, en couple\, rejoignez le déjeuner de Noël paroissial. \nDans la mesure du possible\, apportez un plat à partager \net n’hésitez pas à inviter une personne qui\, sinon\, serait seule chez elle. \nSans inscription \n  \n  \nEt\, avant\, retrouvons-nous pour l’une des 3 veillées et messes de la Nuit de Noël\, et/ou l’une des 2 messes du Jour de Noël : \n 
URL:https://paroissegennevilliers.fr/evenement/dejeuner-de-noel-12h30-16h/
LOCATION:Saint Jean des Grésillons\, 17\, rue du 19 mars 1962\, église St Jean des Grésillons 17\, rue du 19 mars 1962\, GENNEVILLIERS\, 92230\, France
ATTACH;FMTTYPE=image/jpeg:https://paroissegennevilliers.fr/wp-content/uploads/2025/12/2025.12.25-Dejeuner-de-Noel.jpg
END:VEVENT
BEGIN:VEVENT
DTSTART;TZID=Europe/Paris:20251229T083000
DTEND;TZID=Europe/Paris:20251229T103000
DTSTAMP:20260423T104919
CREATED:20251227T221849Z
LAST-MODIFIED:20251227T221849Z
UID:14401-1766997000-1767004200@paroissegennevilliers.fr
SUMMARY:Prière du matin (Taizé)
DESCRIPTION:
URL:https://paroissegennevilliers.fr/evenement/priere-du-matin-taize/
LOCATION:Chapelle Saint Daniel\, 9\, rue Jardins\, Asnières-sur-Seine\, 92600\, France
ATTACH;FMTTYPE=image/jpeg:https://paroissegennevilliers.fr/wp-content/uploads/2025/12/2025.12.29-01.01-Bandeau-Priere-Taize-Asnieres-Gennevilliers.jpg
END:VEVENT
BEGIN:VEVENT
DTSTART;TZID=Europe/Paris:20251230T083000
DTEND;TZID=Europe/Paris:20251230T103000
DTSTAMP:20260423T104919
CREATED:20251227T222029Z
LAST-MODIFIED:20251227T222029Z
UID:14405-1767083400-1767090600@paroissegennevilliers.fr
SUMMARY:Prière du matin (Taizé)
DESCRIPTION:
URL:https://paroissegennevilliers.fr/evenement/priere-du-matin-taize-2/
LOCATION:Chapelle Saint Daniel\, 9\, rue Jardins\, Asnières-sur-Seine\, 92600\, France
CATEGORIES:Prière
ATTACH;FMTTYPE=image/jpeg:https://paroissegennevilliers.fr/wp-content/uploads/2025/12/2025.12.29-01.01-Bandeau-Priere-Taize-Asnieres-Gennevilliers.jpg
END:VEVENT
BEGIN:VEVENT
DTSTART;TZID=Europe/Paris:20251231T230000
DTEND;TZID=Europe/Paris:20260101T003000
DTSTAMP:20260423T104919
CREATED:20251227T223502Z
LAST-MODIFIED:20251230T162136Z
UID:14407-1767222000-1767227400@paroissegennevilliers.fr
SUMMARY:Prière pour la Paix de Taizé (23h-0h15)
DESCRIPTION:
URL:https://paroissegennevilliers.fr/evenement/priere-pour-la-paix-taize/
LOCATION:Eglise Notre Dame du Perpétuel Secours\, 31\, rue Albert I°\, Asnières-sur-Seine\, 92600\, France
ATTACH;FMTTYPE=image/jpeg:https://paroissegennevilliers.fr/wp-content/uploads/2025/12/2025.12.29-01.01-Bandeau-Priere-Taize-Asnieres-Gennevilliers.jpg
END:VEVENT
END:VCALENDAR